BEGIN:VCALENDAR
VERSION:2.0
PRODID:-//Fairways and Greens - ECPv6.15.13//NONSGML v1.0//EN
CALSCALE:GREGORIAN
METHOD:PUBLISH
X-ORIGINAL-URL:https://fairwaysandgreens.com
X-WR-CALDESC:Events for Fairways and Greens
REFRESH-INTERVAL;VALUE=DURATION:PT1H
X-Robots-Tag:noindex
X-PUBLISHED-TTL:PT1H
BEGIN:VTIMEZONE
TZID:America/New_York
BEGIN:DAYLIGHT
TZOFFSETFROM:-0500
TZOFFSETTO:-0400
TZNAME:EDT
DTSTART:20240310T070000
END:DAYLIGHT
BEGIN:STANDARD
TZOFFSETFROM:-0400
TZOFFSETTO:-0500
TZNAME:EST
DTSTART:20241103T060000
END:STANDARD
BEGIN:DAYLIGHT
TZOFFSETFROM:-0500
TZOFFSETTO:-0400
TZNAME:EDT
DTSTART:20250309T070000
END:DAYLIGHT
BEGIN:STANDARD
TZOFFSETFROM:-0400
TZOFFSETTO:-0500
TZNAME:EST
DTSTART:20251102T060000
END:STANDARD
BEGIN:DAYLIGHT
TZOFFSETFROM:-0500
TZOFFSETTO:-0400
TZNAME:EDT
DTSTART:20260308T070000
END:DAYLIGHT
BEGIN:STANDARD
TZOFFSETFROM:-0400
TZOFFSETTO:-0500
TZNAME:EST
DTSTART:20261101T060000
END:STANDARD
END:VTIMEZONE
BEGIN:VEVENT
DTSTART;VALUE=DATE:20250320
DTEND;VALUE=DATE:20250321
DTSTAMP:20260422T182510
CREATED:20241014T201910Z
LAST-MODIFIED:20241014T201910Z
UID:5510-1742428800-1742515199@fairwaysandgreens.com
SUMMARY:Facility Hours: 9 am to 8 pm
DESCRIPTION:
URL:https://fairwaysandgreens.com/calendar/facility-hours-9-am-to-8-pm-10-2025-03-20/
END:VEVENT
BEGIN:VEVENT
DTSTART;VALUE=DATE:20250321
DTEND;VALUE=DATE:20250322
DTSTAMP:20260422T182510
CREATED:20241014T202122Z
LAST-MODIFIED:20241014T202122Z
UID:5534-1742515200-1742601599@fairwaysandgreens.com
SUMMARY:Facility Hours: 9 am to 7 pm
DESCRIPTION:
URL:https://fairwaysandgreens.com/calendar/facility-hours-9-am-to-7-pm-3-2025-03-21/
END:VEVENT
BEGIN:VEVENT
DTSTART;VALUE=DATE:20250322
DTEND;VALUE=DATE:20250323
DTSTAMP:20260422T182510
CREATED:20241014T202219Z
LAST-MODIFIED:20241014T202219Z
UID:5558-1742601600-1742687999@fairwaysandgreens.com
SUMMARY:Facility Hours: 9 am to 6 pm
DESCRIPTION:
URL:https://fairwaysandgreens.com/calendar/facility-hours-9-am-to-6-pm-2-2025-03-22/
END:VEVENT
BEGIN:VEVENT
DTSTART;VALUE=DATE:20250324
DTEND;VALUE=DATE:20250325
DTSTAMP:20260422T182510
CREATED:20241014T201255Z
LAST-MODIFIED:20241014T201255Z
UID:5433-1742774400-1742860799@fairwaysandgreens.com
SUMMARY:Facility Hours: 9 am to 8 pm
DESCRIPTION:Maintenance Monday: The range is closed until 12 pm.
URL:https://fairwaysandgreens.com/calendar/facility-hours-9-am-to-8-pm-8-2025-03-24/
END:VEVENT
BEGIN:VEVENT
DTSTART;VALUE=DATE:20250325
DTEND;VALUE=DATE:20250326
DTSTAMP:20260422T182510
CREATED:20241014T201542Z
LAST-MODIFIED:20241014T201542Z
UID:5459-1742860800-1742947199@fairwaysandgreens.com
SUMMARY:Facility Hours: 9 am 8 pm
DESCRIPTION:
URL:https://fairwaysandgreens.com/calendar/facility-hours-9-am-8-pm-2025-03-25/
END:VEVENT
BEGIN:VEVENT
DTSTART;VALUE=DATE:20250326
DTEND;VALUE=DATE:20250327
DTSTAMP:20260422T182510
CREATED:20241014T201702Z
LAST-MODIFIED:20241014T201702Z
UID:5483-1742947200-1743033599@fairwaysandgreens.com
SUMMARY:Facility Hours: 9 am to 8 pm
DESCRIPTION:
URL:https://fairwaysandgreens.com/calendar/facility-hours-9-am-to-8-pm-9-2025-03-26/
END:VEVENT
BEGIN:VEVENT
DTSTART;VALUE=DATE:20250327
DTEND;VALUE=DATE:20250328
DTSTAMP:20260422T182510
CREATED:20241014T201910Z
LAST-MODIFIED:20241014T201910Z
UID:5511-1743033600-1743119999@fairwaysandgreens.com
SUMMARY:Facility Hours: 9 am to 8 pm
DESCRIPTION:
URL:https://fairwaysandgreens.com/calendar/facility-hours-9-am-to-8-pm-10-2025-03-27/
END:VEVENT
BEGIN:VEVENT
DTSTART;VALUE=DATE:20250329
DTEND;VALUE=DATE:20250330
DTSTAMP:20260422T182510
CREATED:20241014T202219Z
LAST-MODIFIED:20241014T202219Z
UID:5559-1743206400-1743292799@fairwaysandgreens.com
SUMMARY:Facility Hours: 9 am to 6 pm
DESCRIPTION:
URL:https://fairwaysandgreens.com/calendar/facility-hours-9-am-to-6-pm-2-2025-03-29/
END:VEVENT
BEGIN:VEVENT
DTSTART;VALUE=DATE:20250331
DTEND;VALUE=DATE:20250401
DTSTAMP:20260422T182510
CREATED:20241014T201255Z
LAST-MODIFIED:20241014T201255Z
UID:5434-1743379200-1743465599@fairwaysandgreens.com
SUMMARY:Facility Hours: 9 am to 8 pm
DESCRIPTION:Maintenance Monday: The range is closed until 12 pm.
URL:https://fairwaysandgreens.com/calendar/facility-hours-9-am-to-8-pm-8-2025-03-31/
END:VEVENT
BEGIN:VEVENT
DTSTART;VALUE=DATE:20250401
DTEND;VALUE=DATE:20250402
DTSTAMP:20260422T182510
CREATED:20241014T201542Z
LAST-MODIFIED:20241014T201542Z
UID:5460-1743465600-1743551999@fairwaysandgreens.com
SUMMARY:Facility Hours: 9 am 8 pm
DESCRIPTION:
URL:https://fairwaysandgreens.com/calendar/facility-hours-9-am-8-pm-2025-04-01/
END:VEVENT
BEGIN:VEVENT
DTSTART;VALUE=DATE:20250402
DTEND;VALUE=DATE:20250403
DTSTAMP:20260422T182510
CREATED:20241014T201702Z
LAST-MODIFIED:20241014T201702Z
UID:5484-1743552000-1743638399@fairwaysandgreens.com
SUMMARY:Facility Hours: 9 am to 8 pm
DESCRIPTION:
URL:https://fairwaysandgreens.com/calendar/facility-hours-9-am-to-8-pm-9-2025-04-02/
END:VEVENT
BEGIN:VEVENT
DTSTART;VALUE=DATE:20250403
DTEND;VALUE=DATE:20250404
DTSTAMP:20260422T182510
CREATED:20241014T201910Z
LAST-MODIFIED:20241014T201910Z
UID:5512-1743638400-1743724799@fairwaysandgreens.com
SUMMARY:Facility Hours: 9 am to 8 pm
DESCRIPTION:
URL:https://fairwaysandgreens.com/calendar/facility-hours-9-am-to-8-pm-10-2025-04-03/
END:VEVENT
BEGIN:VEVENT
DTSTART;VALUE=DATE:20250404
DTEND;VALUE=DATE:20250405
DTSTAMP:20260422T182510
CREATED:20241014T202122Z
LAST-MODIFIED:20241014T202122Z
UID:5536-1743724800-1743811199@fairwaysandgreens.com
SUMMARY:Facility Hours: 9 am to 7 pm
DESCRIPTION:
URL:https://fairwaysandgreens.com/calendar/facility-hours-9-am-to-7-pm-3-2025-04-04/
END:VEVENT
BEGIN:VEVENT
DTSTART;VALUE=DATE:20250410
DTEND;VALUE=DATE:20250411
DTSTAMP:20260422T182510
CREATED:20241227T202434Z
LAST-MODIFIED:20241227T202434Z
UID:5684-1744243200-1744329599@fairwaysandgreens.com
SUMMARY:Masters Golf Tournament
DESCRIPTION:
URL:https://fairwaysandgreens.com/calendar/masters-golf-tournament/
END:VEVENT
BEGIN:VEVENT
DTSTART;VALUE=DATE:20250411
DTEND;VALUE=DATE:20250412
DTSTAMP:20260422T182510
CREATED:20241227T202434Z
LAST-MODIFIED:20241227T202434Z
UID:5685-1744329600-1744415999@fairwaysandgreens.com
SUMMARY:Masters Golf Tournament
DESCRIPTION:
URL:https://fairwaysandgreens.com/calendar/masters-golf-tournament-2025-04-11/
END:VEVENT
BEGIN:VEVENT
DTSTART;VALUE=DATE:20250412
DTEND;VALUE=DATE:20250413
DTSTAMP:20260422T182510
CREATED:20241227T202434Z
LAST-MODIFIED:20241227T202434Z
UID:5686-1744416000-1744502399@fairwaysandgreens.com
SUMMARY:Masters Golf Tournament
DESCRIPTION:
URL:https://fairwaysandgreens.com/calendar/masters-golf-tournament-2025-04-12/
END:VEVENT
BEGIN:VEVENT
DTSTART;VALUE=DATE:20250413
DTEND;VALUE=DATE:20250414
DTSTAMP:20260422T182510
CREATED:20241227T202434Z
LAST-MODIFIED:20241227T202434Z
UID:5687-1744502400-1744588799@fairwaysandgreens.com
SUMMARY:Masters Golf Tournament
DESCRIPTION:
URL:https://fairwaysandgreens.com/calendar/masters-golf-tournament-2025-04-13/
END:VEVENT
BEGIN:VEVENT
DTSTART;TZID=America/New_York:20250420T100000
DTEND;TZID=America/New_York:20250420T100000
DTSTAMP:20260422T182510
CREATED:20250328T144248Z
LAST-MODIFIED:20250328T144248Z
UID:5772-1745143200-1745143200@fairwaysandgreens.com
SUMMARY:Facility Hours: 10 am to 7 pm
DESCRIPTION:
URL:https://fairwaysandgreens.com/calendar/facility-hours-10-am-to-7-pm-4/
END:VEVENT
BEGIN:VEVENT
DTSTART;TZID=America/New_York:20250427T100000
DTEND;TZID=America/New_York:20250427T100000
DTSTAMP:20260422T182510
CREATED:20250328T144248Z
LAST-MODIFIED:20250328T144248Z
UID:5773-1745748000-1745748000@fairwaysandgreens.com
SUMMARY:Facility Hours: 10 am to 7 pm
DESCRIPTION:
URL:https://fairwaysandgreens.com/calendar/facility-hours-10-am-to-7-pm-4-2025-04-27/
END:VEVENT
BEGIN:VEVENT
DTSTART;TZID=America/New_York:20250504T100000
DTEND;TZID=America/New_York:20250504T100000
DTSTAMP:20260422T182510
CREATED:20250328T144248Z
LAST-MODIFIED:20250328T144248Z
UID:5774-1746352800-1746352800@fairwaysandgreens.com
SUMMARY:Facility Hours: 10 am to 7 pm
DESCRIPTION:
URL:https://fairwaysandgreens.com/calendar/facility-hours-10-am-to-7-pm-4-2025-05-04/
END:VEVENT
BEGIN:VEVENT
DTSTART;TZID=America/New_York:20250505T090000
DTEND;TZID=America/New_York:20250505T090000
DTSTAMP:20260422T182510
CREATED:20250503T181130Z
LAST-MODIFIED:20250503T181130Z
UID:5909-1746435600-1746435600@fairwaysandgreens.com
SUMMARY:Facility Hours: 9 am to 9 pm
DESCRIPTION:Maintenance Monday\, Range opens at 12 pm.
URL:https://fairwaysandgreens.com/calendar/facility-hours-9-am-to-9-pm-5/
END:VEVENT
BEGIN:VEVENT
DTSTART;TZID=America/New_York:20250506T090000
DTEND;TZID=America/New_York:20250506T090000
DTSTAMP:20260422T182510
CREATED:20250503T181312Z
LAST-MODIFIED:20250503T181312Z
UID:5914-1746522000-1746522000@fairwaysandgreens.com
SUMMARY:Facility Hours: 9 am to 9 pm
DESCRIPTION:
URL:https://fairwaysandgreens.com/calendar/facility-hours-9-am-to-9-pm-6/
END:VEVENT
BEGIN:VEVENT
DTSTART;TZID=America/New_York:20250507T090000
DTEND;TZID=America/New_York:20250507T090000
DTSTAMP:20260422T182510
CREATED:20250503T181357Z
LAST-MODIFIED:20250503T181357Z
UID:5919-1746608400-1746608400@fairwaysandgreens.com
SUMMARY:Facility Hours: 9 am to 9 pm
DESCRIPTION:
URL:https://fairwaysandgreens.com/calendar/facility-hours-9-am-to-9-pm-7/
END:VEVENT
BEGIN:VEVENT
DTSTART;TZID=America/New_York:20250508T090000
DTEND;TZID=America/New_York:20250508T090000
DTSTAMP:20260422T182510
CREATED:20250503T181438Z
LAST-MODIFIED:20250503T181438Z
UID:5924-1746694800-1746694800@fairwaysandgreens.com
SUMMARY:Facility Hours: 9 am to 9 pm
DESCRIPTION:
URL:https://fairwaysandgreens.com/calendar/facility-hours-9-am-to-9-pm-8/
END:VEVENT
BEGIN:VEVENT
DTSTART;TZID=America/New_York:20250509T090000
DTEND;TZID=America/New_York:20250509T090000
DTSTAMP:20260422T182510
CREATED:20250503T181516Z
LAST-MODIFIED:20250503T181516Z
UID:5929-1746781200-1746781200@fairwaysandgreens.com
SUMMARY:Facility Hours: 9 am to 8 pm
DESCRIPTION:
URL:https://fairwaysandgreens.com/calendar/facility-hours-9-am-to-8-pm/
END:VEVENT
BEGIN:VEVENT
DTSTART;TZID=America/New_York:20250510T090000
DTEND;TZID=America/New_York:20250510T090000
DTSTAMP:20260422T182511
CREATED:20250503T181601Z
LAST-MODIFIED:20250503T181601Z
UID:5934-1746867600-1746867600@fairwaysandgreens.com
SUMMARY:Facility Hours: 9 am to 7 pm
DESCRIPTION:
URL:https://fairwaysandgreens.com/calendar/facility-hours-9-am-to-7-pm-4/
END:VEVENT
BEGIN:VEVENT
DTSTART;TZID=America/New_York:20250511T100000
DTEND;TZID=America/New_York:20250511T100000
DTSTAMP:20260422T182511
CREATED:20250328T144248Z
LAST-MODIFIED:20250328T144248Z
UID:5775-1746957600-1746957600@fairwaysandgreens.com
SUMMARY:Facility Hours: 10 am to 7 pm
DESCRIPTION:
URL:https://fairwaysandgreens.com/calendar/facility-hours-10-am-to-7-pm-4-2025-05-11/
END:VEVENT
BEGIN:VEVENT
DTSTART;TZID=America/New_York:20250512T090000
DTEND;TZID=America/New_York:20250512T090000
DTSTAMP:20260422T182511
CREATED:20250503T181130Z
LAST-MODIFIED:20250503T181130Z
UID:5910-1747040400-1747040400@fairwaysandgreens.com
SUMMARY:Facility Hours: 9 am to 9 pm
DESCRIPTION:Maintenance Monday\, Range opens at 12 pm.
URL:https://fairwaysandgreens.com/calendar/facility-hours-9-am-to-9-pm-5-2025-05-12/
END:VEVENT
BEGIN:VEVENT
DTSTART;TZID=America/New_York:20250513T090000
DTEND;TZID=America/New_York:20250513T090000
DTSTAMP:20260422T182511
CREATED:20250503T181312Z
LAST-MODIFIED:20250503T181312Z
UID:5915-1747126800-1747126800@fairwaysandgreens.com
SUMMARY:Facility Hours: 9 am to 9 pm
DESCRIPTION:
URL:https://fairwaysandgreens.com/calendar/facility-hours-9-am-to-9-pm-6-2025-05-13/
END:VEVENT
BEGIN:VEVENT
DTSTART;TZID=America/New_York:20250514T090000
DTEND;TZID=America/New_York:20250514T090000
DTSTAMP:20260422T182511
CREATED:20250503T181357Z
LAST-MODIFIED:20250503T181357Z
UID:5920-1747213200-1747213200@fairwaysandgreens.com
SUMMARY:Facility Hours: 9 am to 9 pm
DESCRIPTION:
URL:https://fairwaysandgreens.com/calendar/facility-hours-9-am-to-9-pm-7-2025-05-14/
END:VEVENT
END:VCALENDAR