BEGIN:VCALENDAR
VERSION:2.0
PRODID:-//Fairways and Greens - ECPv6.15.13//NONSGML v1.0//EN
CALSCALE:GREGORIAN
METHOD:PUBLISH
X-ORIGINAL-URL:https://fairwaysandgreens.com
X-WR-CALDESC:Events for Fairways and Greens
REFRESH-INTERVAL;VALUE=DURATION:PT1H
X-Robots-Tag:noindex
X-PUBLISHED-TTL:PT1H
BEGIN:VTIMEZONE
TZID:America/New_York
BEGIN:DAYLIGHT
TZOFFSETFROM:-0500
TZOFFSETTO:-0400
TZNAME:EDT
DTSTART:20230312T070000
END:DAYLIGHT
BEGIN:STANDARD
TZOFFSETFROM:-0400
TZOFFSETTO:-0500
TZNAME:EST
DTSTART:20231105T060000
END:STANDARD
BEGIN:DAYLIGHT
TZOFFSETFROM:-0500
TZOFFSETTO:-0400
TZNAME:EDT
DTSTART:20240310T070000
END:DAYLIGHT
BEGIN:STANDARD
TZOFFSETFROM:-0400
TZOFFSETTO:-0500
TZNAME:EST
DTSTART:20241103T060000
END:STANDARD
BEGIN:DAYLIGHT
TZOFFSETFROM:-0500
TZOFFSETTO:-0400
TZNAME:EDT
DTSTART:20250309T070000
END:DAYLIGHT
BEGIN:STANDARD
TZOFFSETFROM:-0400
TZOFFSETTO:-0500
TZNAME:EST
DTSTART:20251102T060000
END:STANDARD
END:VTIMEZONE
BEGIN:VEVENT
DTSTART;TZID=America/New_York:20240401T090000
DTEND;TZID=America/New_York:20240401T090000
DTSTAMP:20260423T010212
CREATED:20240326T165801Z
LAST-MODIFIED:20240705T162105Z
UID:5063-1711962000-1711962000@fairwaysandgreens.com
SUMMARY:Facility Hours: 9 am to 9 pm
DESCRIPTION:The range is closed until 12 pm for Maintenance Monday
URL:https://fairwaysandgreens.com/calendar/facility-hours-9-am-to-9-pm/
END:VEVENT
BEGIN:VEVENT
DTSTART;VALUE=DATE:20240302
DTEND;VALUE=DATE:20240303
DTSTAMP:20260423T010212
CREATED:20240106T173401Z
LAST-MODIFIED:20240106T173401Z
UID:4944-1709337600-1709423999@fairwaysandgreens.com
SUMMARY:Facility Hours: 9 am to 6 pm
DESCRIPTION:Range Opens at 9 am
URL:https://fairwaysandgreens.com/calendar/facility-hours-9-am-to-8-pm-5-2024-03-02/
END:VEVENT
BEGIN:VEVENT
DTSTART;VALUE=DATE:20240228
DTEND;VALUE=DATE:20240229
DTSTAMP:20260423T010212
CREATED:20240106T173401Z
LAST-MODIFIED:20240106T173507Z
UID:4924-1709078400-1709164799@fairwaysandgreens.com
SUMMARY:Facility Hours: 9 am to 8 pm
DESCRIPTION:Range Opens at 10 am
URL:https://fairwaysandgreens.com/calendar/facility-hours-9-am-to-8-pm-5-2024-02-28/
END:VEVENT
BEGIN:VEVENT
DTSTART;VALUE=DATE:20240227
DTEND;VALUE=DATE:20240228
DTSTAMP:20260423T010212
CREATED:20240106T173743Z
LAST-MODIFIED:20240106T173743Z
UID:4956-1708992000-1709078399@fairwaysandgreens.com
SUMMARY:Facility Hours: 9 am to 8 pm
DESCRIPTION:Range Opens at 10 am
URL:https://fairwaysandgreens.com/calendar/facility-hours-9-am-to-8-pm-6-2024-02-27/
END:VEVENT
BEGIN:VEVENT
DTSTART;VALUE=DATE:20240226
DTEND;VALUE=DATE:20240227
DTSTAMP:20260423T010212
CREATED:20240106T172742Z
LAST-MODIFIED:20240106T172742Z
UID:4880-1708905600-1708991999@fairwaysandgreens.com
SUMMARY:Maintenance Monday
DESCRIPTION:Range opens at 12 pm
URL:https://fairwaysandgreens.com/calendar/maintenance-monday-2024-02-26/
END:VEVENT
BEGIN:VEVENT
DTSTART;VALUE=DATE:20240225
DTEND;VALUE=DATE:20240226
DTSTAMP:20260423T010212
CREATED:20240106T173236Z
LAST-MODIFIED:20240106T173236Z
UID:4908-1708819200-1708905599@fairwaysandgreens.com
SUMMARY:Facility Hours: 10 am to 6 pm
DESCRIPTION:
URL:https://fairwaysandgreens.com/calendar/facility-hours-10-am-to-6-pm-2024-02-25/
END:VEVENT
BEGIN:VEVENT
DTSTART;VALUE=DATE:20240224
DTEND;VALUE=DATE:20240225
DTSTAMP:20260423T010212
CREATED:20240106T173401Z
LAST-MODIFIED:20240106T173401Z
UID:4943-1708732800-1708819199@fairwaysandgreens.com
SUMMARY:Facility Hours: 9 am to 6 pm
DESCRIPTION:Range Opens at 9 am
URL:https://fairwaysandgreens.com/calendar/facility-hours-9-am-to-8-pm-5-2024-02-24/
END:VEVENT
BEGIN:VEVENT
DTSTART;VALUE=DATE:20240222
DTEND;VALUE=DATE:20240223
DTSTAMP:20260423T010212
CREATED:20240106T173401Z
LAST-MODIFIED:20240106T173401Z
UID:4930-1708560000-1708646399@fairwaysandgreens.com
SUMMARY:Facility Hours: 9 am to 8 pm
DESCRIPTION:Range Opens at 10 am
URL:https://fairwaysandgreens.com/calendar/facility-hours-9-am-to-8-pm-5-2024-02-22/
END:VEVENT
BEGIN:VEVENT
DTSTART;VALUE=DATE:20240221
DTEND;VALUE=DATE:20240222
DTSTAMP:20260423T010212
CREATED:20240106T173401Z
LAST-MODIFIED:20240106T173507Z
UID:4923-1708473600-1708559999@fairwaysandgreens.com
SUMMARY:Facility Hours: 9 am to 8 pm
DESCRIPTION:Range Opens at 10 am
URL:https://fairwaysandgreens.com/calendar/facility-hours-9-am-to-8-pm-5-2024-02-21/
END:VEVENT
BEGIN:VEVENT
DTSTART;VALUE=DATE:20240220
DTEND;VALUE=DATE:20240221
DTSTAMP:20260423T010212
CREATED:20240106T173743Z
LAST-MODIFIED:20240106T173743Z
UID:4955-1708387200-1708473599@fairwaysandgreens.com
SUMMARY:Facility Hours: 9 am to 8 pm
DESCRIPTION:Range Opens at 10 am
URL:https://fairwaysandgreens.com/calendar/facility-hours-9-am-to-8-pm-6-2024-02-20/
END:VEVENT
BEGIN:VEVENT
DTSTART;VALUE=DATE:20240219
DTEND;VALUE=DATE:20240220
DTSTAMP:20260423T010212
CREATED:20240106T172742Z
LAST-MODIFIED:20240106T172742Z
UID:4879-1708300800-1708387199@fairwaysandgreens.com
SUMMARY:Maintenance Monday
DESCRIPTION:Range opens at 12 pm
URL:https://fairwaysandgreens.com/calendar/maintenance-monday-2024-02-19/
END:VEVENT
BEGIN:VEVENT
DTSTART;VALUE=DATE:20240218
DTEND;VALUE=DATE:20240219
DTSTAMP:20260423T010212
CREATED:20240106T173236Z
LAST-MODIFIED:20240106T173236Z
UID:4907-1708214400-1708300799@fairwaysandgreens.com
SUMMARY:Facility Hours: 10 am to 6 pm
DESCRIPTION:
URL:https://fairwaysandgreens.com/calendar/facility-hours-10-am-to-6-pm-2024-02-18/
END:VEVENT
BEGIN:VEVENT
DTSTART;VALUE=DATE:20240217
DTEND;VALUE=DATE:20240218
DTSTAMP:20260423T010212
CREATED:20240106T173401Z
LAST-MODIFIED:20240106T173401Z
UID:4942-1708128000-1708214399@fairwaysandgreens.com
SUMMARY:Facility Hours: 9 am to 6 pm
DESCRIPTION:Range Opens at 9 am
URL:https://fairwaysandgreens.com/calendar/facility-hours-9-am-to-8-pm-5-2024-02-17/
END:VEVENT
BEGIN:VEVENT
DTSTART;VALUE=DATE:20240215
DTEND;VALUE=DATE:20240216
DTSTAMP:20260423T010212
CREATED:20240106T173401Z
LAST-MODIFIED:20240106T173401Z
UID:4929-1707955200-1708041599@fairwaysandgreens.com
SUMMARY:Facility Hours: 9 am to 8 pm
DESCRIPTION:Range Opens at 10 am
URL:https://fairwaysandgreens.com/calendar/facility-hours-9-am-to-8-pm-5-2024-02-15/
END:VEVENT
BEGIN:VEVENT
DTSTART;VALUE=DATE:20240214
DTEND;VALUE=DATE:20240215
DTSTAMP:20260423T010212
CREATED:20240106T173401Z
LAST-MODIFIED:20240106T173507Z
UID:4922-1707868800-1707955199@fairwaysandgreens.com
SUMMARY:Facility Hours: 9 am to 8 pm
DESCRIPTION:Range Opens at 10 am
URL:https://fairwaysandgreens.com/calendar/facility-hours-9-am-to-8-pm-5-2024-02-14/
END:VEVENT
BEGIN:VEVENT
DTSTART;VALUE=DATE:20240213
DTEND;VALUE=DATE:20240214
DTSTAMP:20260423T010212
CREATED:20240106T173743Z
LAST-MODIFIED:20240106T173743Z
UID:4954-1707782400-1707868799@fairwaysandgreens.com
SUMMARY:Facility Hours: 9 am to 8 pm
DESCRIPTION:Range Opens at 10 am
URL:https://fairwaysandgreens.com/calendar/facility-hours-9-am-to-8-pm-6-2024-02-13/
END:VEVENT
BEGIN:VEVENT
DTSTART;VALUE=DATE:20240212
DTEND;VALUE=DATE:20240213
DTSTAMP:20260423T010212
CREATED:20240106T172742Z
LAST-MODIFIED:20240106T172742Z
UID:4878-1707696000-1707782399@fairwaysandgreens.com
SUMMARY:Maintenance Monday
DESCRIPTION:Range opens at 12 pm
URL:https://fairwaysandgreens.com/calendar/maintenance-monday-2024-02-12/
END:VEVENT
BEGIN:VEVENT
DTSTART;VALUE=DATE:20240211
DTEND;VALUE=DATE:20240212
DTSTAMP:20260423T010212
CREATED:20240106T173236Z
LAST-MODIFIED:20240106T173236Z
UID:4906-1707609600-1707695999@fairwaysandgreens.com
SUMMARY:Facility Hours: 10 am to 6 pm
DESCRIPTION:
URL:https://fairwaysandgreens.com/calendar/facility-hours-10-am-to-6-pm-2024-02-11/
END:VEVENT
BEGIN:VEVENT
DTSTART;VALUE=DATE:20240210
DTEND;VALUE=DATE:20240211
DTSTAMP:20260423T010212
CREATED:20240106T173401Z
LAST-MODIFIED:20240106T173401Z
UID:4941-1707523200-1707609599@fairwaysandgreens.com
SUMMARY:Facility Hours: 9 am to 6 pm
DESCRIPTION:Range Opens at 9 am
URL:https://fairwaysandgreens.com/calendar/facility-hours-9-am-to-8-pm-5-2024-02-10/
END:VEVENT
BEGIN:VEVENT
DTSTART;VALUE=DATE:20240208
DTEND;VALUE=DATE:20240209
DTSTAMP:20260423T010212
CREATED:20240106T173401Z
LAST-MODIFIED:20240106T173401Z
UID:4928-1707350400-1707436799@fairwaysandgreens.com
SUMMARY:Facility Hours: 9 am to 8 pm
DESCRIPTION:Range Opens at 10 am
URL:https://fairwaysandgreens.com/calendar/facility-hours-9-am-to-8-pm-5-2024-02-08/
END:VEVENT
BEGIN:VEVENT
DTSTART;VALUE=DATE:20240207
DTEND;VALUE=DATE:20240208
DTSTAMP:20260423T010212
CREATED:20240106T173401Z
LAST-MODIFIED:20240106T173505Z
UID:4921-1707264000-1707350399@fairwaysandgreens.com
SUMMARY:Facility Hours: 9 am to 8 pm
DESCRIPTION:Range Opens at 10 am
URL:https://fairwaysandgreens.com/calendar/facility-hours-9-am-to-8-pm-5-2024-02-07/
END:VEVENT
BEGIN:VEVENT
DTSTART;VALUE=DATE:20240206
DTEND;VALUE=DATE:20240207
DTSTAMP:20260423T010212
CREATED:20240106T173743Z
LAST-MODIFIED:20240106T173743Z
UID:4953-1707177600-1707263999@fairwaysandgreens.com
SUMMARY:Facility Hours: 9 am to 8 pm
DESCRIPTION:Range Opens at 10 am
URL:https://fairwaysandgreens.com/calendar/facility-hours-9-am-to-8-pm-6-2024-02-06/
END:VEVENT
BEGIN:VEVENT
DTSTART;VALUE=DATE:20240205
DTEND;VALUE=DATE:20240206
DTSTAMP:20260423T010212
CREATED:20240106T172742Z
LAST-MODIFIED:20240106T172742Z
UID:4877-1707091200-1707177599@fairwaysandgreens.com
SUMMARY:Maintenance Monday
DESCRIPTION:Range opens at 12 pm
URL:https://fairwaysandgreens.com/calendar/maintenance-monday-2024-02-05/
END:VEVENT
BEGIN:VEVENT
DTSTART;VALUE=DATE:20240204
DTEND;VALUE=DATE:20240205
DTSTAMP:20260423T010212
CREATED:20240106T173236Z
LAST-MODIFIED:20240106T173236Z
UID:4905-1707004800-1707091199@fairwaysandgreens.com
SUMMARY:Facility Hours: 10 am to 6 pm
DESCRIPTION:
URL:https://fairwaysandgreens.com/calendar/facility-hours-10-am-to-6-pm-2024-02-04/
END:VEVENT
BEGIN:VEVENT
DTSTART;VALUE=DATE:20240203
DTEND;VALUE=DATE:20240204
DTSTAMP:20260423T010212
CREATED:20240106T173401Z
LAST-MODIFIED:20240106T173401Z
UID:4940-1706918400-1707004799@fairwaysandgreens.com
SUMMARY:Facility Hours: 9 am to 6 pm
DESCRIPTION:Range Opens at 9 am
URL:https://fairwaysandgreens.com/calendar/facility-hours-9-am-to-8-pm-5-2024-02-03/
END:VEVENT
BEGIN:VEVENT
DTSTART;VALUE=DATE:20240201
DTEND;VALUE=DATE:20240202
DTSTAMP:20260423T010212
CREATED:20240106T173401Z
LAST-MODIFIED:20240106T173401Z
UID:4927-1706745600-1706831999@fairwaysandgreens.com
SUMMARY:Facility Hours: 9 am to 8 pm
DESCRIPTION:Range Opens at 10 am
URL:https://fairwaysandgreens.com/calendar/facility-hours-9-am-to-8-pm-5-2024-02-01/
END:VEVENT
BEGIN:VEVENT
DTSTART;VALUE=DATE:20240131
DTEND;VALUE=DATE:20240201
DTSTAMP:20260423T010212
CREATED:20240106T173401Z
LAST-MODIFIED:20240106T173505Z
UID:4920-1706659200-1706745599@fairwaysandgreens.com
SUMMARY:Facility Hours: 9 am to 8 pm
DESCRIPTION:Range Opens at 10 am
URL:https://fairwaysandgreens.com/calendar/facility-hours-9-am-to-8-pm-5-2024-01-31/
END:VEVENT
BEGIN:VEVENT
DTSTART;VALUE=DATE:20240130
DTEND;VALUE=DATE:20240131
DTSTAMP:20260423T010212
CREATED:20240106T173743Z
LAST-MODIFIED:20240106T173743Z
UID:4952-1706572800-1706659199@fairwaysandgreens.com
SUMMARY:Facility Hours: 9 am to 8 pm
DESCRIPTION:Range Opens at 10 am
URL:https://fairwaysandgreens.com/calendar/facility-hours-9-am-to-8-pm-6-2024-01-30/
END:VEVENT
BEGIN:VEVENT
DTSTART;VALUE=DATE:20240129
DTEND;VALUE=DATE:20240130
DTSTAMP:20260423T010212
CREATED:20240106T172742Z
LAST-MODIFIED:20240106T172742Z
UID:4876-1706486400-1706572799@fairwaysandgreens.com
SUMMARY:Maintenance Monday
DESCRIPTION:Range opens at 12 pm
URL:https://fairwaysandgreens.com/calendar/maintenance-monday-2024-01-29/
END:VEVENT
BEGIN:VEVENT
DTSTART;VALUE=DATE:20240128
DTEND;VALUE=DATE:20240129
DTSTAMP:20260423T010212
CREATED:20240106T173236Z
LAST-MODIFIED:20240106T173236Z
UID:4904-1706400000-1706486399@fairwaysandgreens.com
SUMMARY:Facility Hours: 10 am to 6 pm
DESCRIPTION:
URL:https://fairwaysandgreens.com/calendar/facility-hours-10-am-to-6-pm-2024-01-28/
END:VEVENT
END:VCALENDAR