BEGIN:VCALENDAR
VERSION:2.0
PRODID:-//Fairways and Greens - ECPv6.15.13//NONSGML v1.0//EN
CALSCALE:GREGORIAN
METHOD:PUBLISH
X-ORIGINAL-URL:https://fairwaysandgreens.com
X-WR-CALDESC:Events for Fairways and Greens
REFRESH-INTERVAL;VALUE=DURATION:PT1H
X-Robots-Tag:noindex
X-PUBLISHED-TTL:PT1H
BEGIN:VTIMEZONE
TZID:America/New_York
BEGIN:DAYLIGHT
TZOFFSETFROM:-0500
TZOFFSETTO:-0400
TZNAME:EDT
DTSTART:20230312T070000
END:DAYLIGHT
BEGIN:STANDARD
TZOFFSETFROM:-0400
TZOFFSETTO:-0500
TZNAME:EST
DTSTART:20231105T060000
END:STANDARD
BEGIN:DAYLIGHT
TZOFFSETFROM:-0500
TZOFFSETTO:-0400
TZNAME:EDT
DTSTART:20240310T070000
END:DAYLIGHT
BEGIN:STANDARD
TZOFFSETFROM:-0400
TZOFFSETTO:-0500
TZNAME:EST
DTSTART:20241103T060000
END:STANDARD
BEGIN:DAYLIGHT
TZOFFSETFROM:-0500
TZOFFSETTO:-0400
TZNAME:EDT
DTSTART:20250309T070000
END:DAYLIGHT
BEGIN:STANDARD
TZOFFSETFROM:-0400
TZOFFSETTO:-0500
TZNAME:EST
DTSTART:20251102T060000
END:STANDARD
END:VTIMEZONE
BEGIN:VEVENT
DTSTART;VALUE=DATE:20241129
DTEND;VALUE=DATE:20241130
DTSTAMP:20260422T181349
CREATED:20241014T202122Z
LAST-MODIFIED:20241014T202122Z
UID:5517-1732838400-1732924799@fairwaysandgreens.com
SUMMARY:Facility Hours: 9 am to 7 pm
DESCRIPTION:
URL:https://fairwaysandgreens.com/calendar/facility-hours-9-am-to-7-pm-3-2024-11-29/
END:VEVENT
BEGIN:VEVENT
DTSTART;VALUE=DATE:20241130
DTEND;VALUE=DATE:20241201
DTSTAMP:20260422T181349
CREATED:20241014T202219Z
LAST-MODIFIED:20241014T202219Z
UID:5541-1732924800-1733011199@fairwaysandgreens.com
SUMMARY:Facility Hours: 9 am to 6 pm
DESCRIPTION:
URL:https://fairwaysandgreens.com/calendar/facility-hours-9-am-to-6-pm-2-2024-11-30/
END:VEVENT
BEGIN:VEVENT
DTSTART;TZID=America/New_York:20241201T100000
DTEND;TZID=America/New_York:20241201T100000
DTSTAMP:20260422T181349
CREATED:20241014T200551Z
LAST-MODIFIED:20241014T201020Z
UID:5330-1733047200-1733047200@fairwaysandgreens.com
SUMMARY:Facility Hours: 10 am to 6 pm
DESCRIPTION:
URL:https://fairwaysandgreens.com/calendar/facility-hours-2024-12-01/
END:VEVENT
BEGIN:VEVENT
DTSTART;VALUE=DATE:20241202
DTEND;VALUE=DATE:20241203
DTSTAMP:20260422T181349
CREATED:20241014T201255Z
LAST-MODIFIED:20241014T201255Z
UID:5416-1733097600-1733183999@fairwaysandgreens.com
SUMMARY:Facility Hours: 9 am to 8 pm
DESCRIPTION:Maintenance Monday: The range is closed until 12 pm.
URL:https://fairwaysandgreens.com/calendar/facility-hours-9-am-to-8-pm-8-2024-12-02/
END:VEVENT
BEGIN:VEVENT
DTSTART;VALUE=DATE:20241203
DTEND;VALUE=DATE:20241204
DTSTAMP:20260422T181349
CREATED:20241014T201542Z
LAST-MODIFIED:20241014T201542Z
UID:5442-1733184000-1733270399@fairwaysandgreens.com
SUMMARY:Facility Hours: 9 am 8 pm
DESCRIPTION:
URL:https://fairwaysandgreens.com/calendar/facility-hours-9-am-8-pm-2024-12-03/
END:VEVENT
BEGIN:VEVENT
DTSTART;VALUE=DATE:20241204
DTEND;VALUE=DATE:20241205
DTSTAMP:20260422T181349
CREATED:20241014T201702Z
LAST-MODIFIED:20241014T201702Z
UID:5466-1733270400-1733356799@fairwaysandgreens.com
SUMMARY:Facility Hours: 9 am to 8 pm
DESCRIPTION:
URL:https://fairwaysandgreens.com/calendar/facility-hours-9-am-to-8-pm-9-2024-12-04/
END:VEVENT
BEGIN:VEVENT
DTSTART;VALUE=DATE:20241205
DTEND;VALUE=DATE:20241206
DTSTAMP:20260422T181349
CREATED:20241014T201910Z
LAST-MODIFIED:20241014T201910Z
UID:5494-1733356800-1733443199@fairwaysandgreens.com
SUMMARY:Facility Hours: 9 am to 8 pm
DESCRIPTION:
URL:https://fairwaysandgreens.com/calendar/facility-hours-9-am-to-8-pm-10-2024-12-05/
END:VEVENT
BEGIN:VEVENT
DTSTART;VALUE=DATE:20241206
DTEND;VALUE=DATE:20241207
DTSTAMP:20260422T181349
CREATED:20241014T202122Z
LAST-MODIFIED:20241014T202122Z
UID:5518-1733443200-1733529599@fairwaysandgreens.com
SUMMARY:Facility Hours: 9 am to 7 pm
DESCRIPTION:
URL:https://fairwaysandgreens.com/calendar/facility-hours-9-am-to-7-pm-3-2024-12-06/
END:VEVENT
BEGIN:VEVENT
DTSTART;VALUE=DATE:20241207
DTEND;VALUE=DATE:20241208
DTSTAMP:20260422T181349
CREATED:20241014T202219Z
LAST-MODIFIED:20241014T202219Z
UID:5542-1733529600-1733615999@fairwaysandgreens.com
SUMMARY:Facility Hours: 9 am to 6 pm
DESCRIPTION:
URL:https://fairwaysandgreens.com/calendar/facility-hours-9-am-to-6-pm-2-2024-12-07/
END:VEVENT
BEGIN:VEVENT
DTSTART;TZID=America/New_York:20241208T100000
DTEND;TZID=America/New_York:20241208T100000
DTSTAMP:20260422T181349
CREATED:20241014T200551Z
LAST-MODIFIED:20241014T201020Z
UID:5331-1733652000-1733652000@fairwaysandgreens.com
SUMMARY:Facility Hours: 10 am to 6 pm
DESCRIPTION:
URL:https://fairwaysandgreens.com/calendar/facility-hours-2024-12-08/
END:VEVENT
BEGIN:VEVENT
DTSTART;VALUE=DATE:20241209
DTEND;VALUE=DATE:20241210
DTSTAMP:20260422T181349
CREATED:20241014T201255Z
LAST-MODIFIED:20241014T201255Z
UID:5417-1733702400-1733788799@fairwaysandgreens.com
SUMMARY:Facility Hours: 9 am to 8 pm
DESCRIPTION:Maintenance Monday: The range is closed until 12 pm.
URL:https://fairwaysandgreens.com/calendar/facility-hours-9-am-to-8-pm-8-2024-12-09/
END:VEVENT
BEGIN:VEVENT
DTSTART;VALUE=DATE:20241210
DTEND;VALUE=DATE:20241211
DTSTAMP:20260422T181349
CREATED:20241014T201542Z
LAST-MODIFIED:20241014T201542Z
UID:5443-1733788800-1733875199@fairwaysandgreens.com
SUMMARY:Facility Hours: 9 am 8 pm
DESCRIPTION:
URL:https://fairwaysandgreens.com/calendar/facility-hours-9-am-8-pm-2024-12-10/
END:VEVENT
BEGIN:VEVENT
DTSTART;VALUE=DATE:20241211
DTEND;VALUE=DATE:20241212
DTSTAMP:20260422T181349
CREATED:20241014T201702Z
LAST-MODIFIED:20241014T201702Z
UID:5467-1733875200-1733961599@fairwaysandgreens.com
SUMMARY:Facility Hours: 9 am to 8 pm
DESCRIPTION:
URL:https://fairwaysandgreens.com/calendar/facility-hours-9-am-to-8-pm-9-2024-12-11/
END:VEVENT
BEGIN:VEVENT
DTSTART;VALUE=DATE:20241212
DTEND;VALUE=DATE:20241213
DTSTAMP:20260422T181349
CREATED:20241014T201910Z
LAST-MODIFIED:20241014T201910Z
UID:5495-1733961600-1734047999@fairwaysandgreens.com
SUMMARY:Facility Hours: 9 am to 8 pm
DESCRIPTION:
URL:https://fairwaysandgreens.com/calendar/facility-hours-9-am-to-8-pm-10-2024-12-12/
END:VEVENT
BEGIN:VEVENT
DTSTART;VALUE=DATE:20241213
DTEND;VALUE=DATE:20241214
DTSTAMP:20260422T181349
CREATED:20241014T202122Z
LAST-MODIFIED:20241014T202122Z
UID:5519-1734048000-1734134399@fairwaysandgreens.com
SUMMARY:Facility Hours: 9 am to 7 pm
DESCRIPTION:
URL:https://fairwaysandgreens.com/calendar/facility-hours-9-am-to-7-pm-3-2024-12-13/
END:VEVENT
BEGIN:VEVENT
DTSTART;VALUE=DATE:20241214
DTEND;VALUE=DATE:20241215
DTSTAMP:20260422T181349
CREATED:20241014T202219Z
LAST-MODIFIED:20241014T202219Z
UID:5543-1734134400-1734220799@fairwaysandgreens.com
SUMMARY:Facility Hours: 9 am to 6 pm
DESCRIPTION:
URL:https://fairwaysandgreens.com/calendar/facility-hours-9-am-to-6-pm-2-2024-12-14/
END:VEVENT
BEGIN:VEVENT
DTSTART;TZID=America/New_York:20241215T100000
DTEND;TZID=America/New_York:20241215T100000
DTSTAMP:20260422T181349
CREATED:20241014T200551Z
LAST-MODIFIED:20241014T201020Z
UID:5332-1734256800-1734256800@fairwaysandgreens.com
SUMMARY:Facility Hours: 10 am to 6 pm
DESCRIPTION:
URL:https://fairwaysandgreens.com/calendar/facility-hours-2024-12-15/
END:VEVENT
BEGIN:VEVENT
DTSTART;VALUE=DATE:20241216
DTEND;VALUE=DATE:20241217
DTSTAMP:20260422T181349
CREATED:20241014T201255Z
LAST-MODIFIED:20241014T201255Z
UID:5418-1734307200-1734393599@fairwaysandgreens.com
SUMMARY:Facility Hours: 9 am to 8 pm
DESCRIPTION:Maintenance Monday: The range is closed until 12 pm.
URL:https://fairwaysandgreens.com/calendar/facility-hours-9-am-to-8-pm-8-2024-12-16/
END:VEVENT
BEGIN:VEVENT
DTSTART;VALUE=DATE:20241217
DTEND;VALUE=DATE:20241218
DTSTAMP:20260422T181349
CREATED:20241014T201542Z
LAST-MODIFIED:20241014T201542Z
UID:5444-1734393600-1734479999@fairwaysandgreens.com
SUMMARY:Facility Hours: 9 am 8 pm
DESCRIPTION:
URL:https://fairwaysandgreens.com/calendar/facility-hours-9-am-8-pm-2024-12-17/
END:VEVENT
BEGIN:VEVENT
DTSTART;VALUE=DATE:20241218
DTEND;VALUE=DATE:20241219
DTSTAMP:20260422T181349
CREATED:20241014T201702Z
LAST-MODIFIED:20241014T201702Z
UID:5468-1734480000-1734566399@fairwaysandgreens.com
SUMMARY:Facility Hours: 9 am to 8 pm
DESCRIPTION:
URL:https://fairwaysandgreens.com/calendar/facility-hours-9-am-to-8-pm-9-2024-12-18/
END:VEVENT
BEGIN:VEVENT
DTSTART;VALUE=DATE:20241219
DTEND;VALUE=DATE:20241220
DTSTAMP:20260422T181349
CREATED:20241014T201910Z
LAST-MODIFIED:20241014T201910Z
UID:5496-1734566400-1734652799@fairwaysandgreens.com
SUMMARY:Facility Hours: 9 am to 8 pm
DESCRIPTION:
URL:https://fairwaysandgreens.com/calendar/facility-hours-9-am-to-8-pm-10-2024-12-19/
END:VEVENT
BEGIN:VEVENT
DTSTART;VALUE=DATE:20241220
DTEND;VALUE=DATE:20241221
DTSTAMP:20260422T181349
CREATED:20241014T202122Z
LAST-MODIFIED:20241014T202122Z
UID:5520-1734652800-1734739199@fairwaysandgreens.com
SUMMARY:Facility Hours: 9 am to 7 pm
DESCRIPTION:
URL:https://fairwaysandgreens.com/calendar/facility-hours-9-am-to-7-pm-3-2024-12-20/
END:VEVENT
BEGIN:VEVENT
DTSTART;VALUE=DATE:20241221
DTEND;VALUE=DATE:20241222
DTSTAMP:20260422T181349
CREATED:20241014T202219Z
LAST-MODIFIED:20241014T202219Z
UID:5544-1734739200-1734825599@fairwaysandgreens.com
SUMMARY:Facility Hours: 9 am to 6 pm
DESCRIPTION:
URL:https://fairwaysandgreens.com/calendar/facility-hours-9-am-to-6-pm-2-2024-12-21/
END:VEVENT
BEGIN:VEVENT
DTSTART;TZID=America/New_York:20241222T100000
DTEND;TZID=America/New_York:20241222T100000
DTSTAMP:20260422T181349
CREATED:20241014T200551Z
LAST-MODIFIED:20241014T201020Z
UID:5333-1734861600-1734861600@fairwaysandgreens.com
SUMMARY:Facility Hours: 10 am to 6 pm
DESCRIPTION:
URL:https://fairwaysandgreens.com/calendar/facility-hours-2024-12-22/
END:VEVENT
BEGIN:VEVENT
DTSTART;VALUE=DATE:20241223
DTEND;VALUE=DATE:20241224
DTSTAMP:20260422T181349
CREATED:20241014T201255Z
LAST-MODIFIED:20241014T201255Z
UID:5419-1734912000-1734998399@fairwaysandgreens.com
SUMMARY:Facility Hours: 9 am to 8 pm
DESCRIPTION:Maintenance Monday: The range is closed until 12 pm.
URL:https://fairwaysandgreens.com/calendar/facility-hours-9-am-to-8-pm-8-2024-12-23/
END:VEVENT
BEGIN:VEVENT
DTSTART;VALUE=DATE:20241226
DTEND;VALUE=DATE:20241227
DTSTAMP:20260422T181349
CREATED:20241014T201910Z
LAST-MODIFIED:20241014T201910Z
UID:5497-1735171200-1735257599@fairwaysandgreens.com
SUMMARY:Facility Hours: 9 am to 8 pm
DESCRIPTION:
URL:https://fairwaysandgreens.com/calendar/facility-hours-9-am-to-8-pm-10-2024-12-26/
END:VEVENT
BEGIN:VEVENT
DTSTART;VALUE=DATE:20241227
DTEND;VALUE=DATE:20241228
DTSTAMP:20260422T181349
CREATED:20241014T202122Z
LAST-MODIFIED:20241014T202122Z
UID:5521-1735257600-1735343999@fairwaysandgreens.com
SUMMARY:Facility Hours: 9 am to 7 pm
DESCRIPTION:
URL:https://fairwaysandgreens.com/calendar/facility-hours-9-am-to-7-pm-3-2024-12-27/
END:VEVENT
BEGIN:VEVENT
DTSTART;VALUE=DATE:20241228
DTEND;VALUE=DATE:20241229
DTSTAMP:20260422T181349
CREATED:20241014T202219Z
LAST-MODIFIED:20241014T202219Z
UID:5545-1735344000-1735430399@fairwaysandgreens.com
SUMMARY:Facility Hours: 9 am to 6 pm
DESCRIPTION:
URL:https://fairwaysandgreens.com/calendar/facility-hours-9-am-to-6-pm-2-2024-12-28/
END:VEVENT
BEGIN:VEVENT
DTSTART;TZID=America/New_York:20241229T100000
DTEND;TZID=America/New_York:20241229T100000
DTSTAMP:20260422T181349
CREATED:20241014T200551Z
LAST-MODIFIED:20241014T201020Z
UID:5334-1735466400-1735466400@fairwaysandgreens.com
SUMMARY:Facility Hours: 10 am to 6 pm
DESCRIPTION:
URL:https://fairwaysandgreens.com/calendar/facility-hours-2024-12-29/
END:VEVENT
BEGIN:VEVENT
DTSTART;VALUE=DATE:20241230
DTEND;VALUE=DATE:20241231
DTSTAMP:20260422T181349
CREATED:20241014T201255Z
LAST-MODIFIED:20241014T201255Z
UID:5420-1735516800-1735603199@fairwaysandgreens.com
SUMMARY:Facility Hours: 9 am to 8 pm
DESCRIPTION:Maintenance Monday: The range is closed until 12 pm.
URL:https://fairwaysandgreens.com/calendar/facility-hours-9-am-to-8-pm-8-2024-12-30/
END:VEVENT
END:VCALENDAR