BEGIN:VCALENDAR
VERSION:2.0
PRODID:-//Fairways and Greens - ECPv6.15.13//NONSGML v1.0//EN
CALSCALE:GREGORIAN
METHOD:PUBLISH
X-WR-CALNAME:Fairways and Greens
X-ORIGINAL-URL:https://fairwaysandgreens.com
X-WR-CALDESC:Events for Fairways and Greens
REFRESH-INTERVAL;VALUE=DURATION:PT1H
X-Robots-Tag:noindex
X-PUBLISHED-TTL:PT1H
BEGIN:VTIMEZONE
TZID:America/New_York
BEGIN:DAYLIGHT
TZOFFSETFROM:-0500
TZOFFSETTO:-0400
TZNAME:EDT
DTSTART:20240310T070000
END:DAYLIGHT
BEGIN:STANDARD
TZOFFSETFROM:-0400
TZOFFSETTO:-0500
TZNAME:EST
DTSTART:20241103T060000
END:STANDARD
BEGIN:DAYLIGHT
TZOFFSETFROM:-0500
TZOFFSETTO:-0400
TZNAME:EDT
DTSTART:20250309T070000
END:DAYLIGHT
BEGIN:STANDARD
TZOFFSETFROM:-0400
TZOFFSETTO:-0500
TZNAME:EST
DTSTART:20251102T060000
END:STANDARD
BEGIN:DAYLIGHT
TZOFFSETFROM:-0500
TZOFFSETTO:-0400
TZNAME:EDT
DTSTART:20260308T070000
END:DAYLIGHT
BEGIN:STANDARD
TZOFFSETFROM:-0400
TZOFFSETTO:-0500
TZNAME:EST
DTSTART:20261101T060000
END:STANDARD
END:VTIMEZONE
BEGIN:VEVENT
DTSTART;TZID=America/New_York:20250608T100000
DTEND;TZID=America/New_York:20250608T100000
DTSTAMP:20260421T220031
CREATED:20250328T144248Z
LAST-MODIFIED:20250328T144248Z
UID:5779-1749376800-1749376800@fairwaysandgreens.com
SUMMARY:Facility Hours: 10 am to 7 pm
DESCRIPTION:
URL:https://fairwaysandgreens.com/calendar/facility-hours-10-am-to-7-pm-4-2025-06-08/
END:VEVENT
BEGIN:VEVENT
DTSTART;TZID=America/New_York:20250601T100000
DTEND;TZID=America/New_York:20250601T100000
DTSTAMP:20260421T220031
CREATED:20250328T144248Z
LAST-MODIFIED:20250328T144248Z
UID:5778-1748772000-1748772000@fairwaysandgreens.com
SUMMARY:Facility Hours: 10 am to 7 pm
DESCRIPTION:
URL:https://fairwaysandgreens.com/calendar/facility-hours-10-am-to-7-pm-4-2025-06-01/
END:VEVENT
BEGIN:VEVENT
DTSTART;TZID=America/New_York:20250531T090000
DTEND;TZID=America/New_York:20250531T090000
DTSTAMP:20260421T220031
CREATED:20250503T181601Z
LAST-MODIFIED:20250503T181601Z
UID:5937-1748682000-1748682000@fairwaysandgreens.com
SUMMARY:Facility Hours: 9 am to 7 pm
DESCRIPTION:
URL:https://fairwaysandgreens.com/calendar/facility-hours-9-am-to-7-pm-4-2025-05-31/
END:VEVENT
BEGIN:VEVENT
DTSTART;TZID=America/New_York:20250530T090000
DTEND;TZID=America/New_York:20250530T090000
DTSTAMP:20260421T220031
CREATED:20250503T181516Z
LAST-MODIFIED:20250503T181516Z
UID:5932-1748595600-1748595600@fairwaysandgreens.com
SUMMARY:Facility Hours: 9 am to 8 pm
DESCRIPTION:
URL:https://fairwaysandgreens.com/calendar/facility-hours-9-am-to-8-pm-2025-05-30/
END:VEVENT
BEGIN:VEVENT
DTSTART;TZID=America/New_York:20250529T090000
DTEND;TZID=America/New_York:20250529T090000
DTSTAMP:20260421T220031
CREATED:20250503T181438Z
LAST-MODIFIED:20250503T181438Z
UID:5927-1748509200-1748509200@fairwaysandgreens.com
SUMMARY:Facility Hours: 9 am to 9 pm
DESCRIPTION:
URL:https://fairwaysandgreens.com/calendar/facility-hours-9-am-to-9-pm-8-2025-05-29/
END:VEVENT
BEGIN:VEVENT
DTSTART;TZID=America/New_York:20250528T090000
DTEND;TZID=America/New_York:20250528T090000
DTSTAMP:20260421T220031
CREATED:20250503T181357Z
LAST-MODIFIED:20250503T181357Z
UID:5922-1748422800-1748422800@fairwaysandgreens.com
SUMMARY:Facility Hours: 9 am to 9 pm
DESCRIPTION:
URL:https://fairwaysandgreens.com/calendar/facility-hours-9-am-to-9-pm-7-2025-05-28/
END:VEVENT
BEGIN:VEVENT
DTSTART;TZID=America/New_York:20250527T090000
DTEND;TZID=America/New_York:20250527T090000
DTSTAMP:20260421T220031
CREATED:20250503T181312Z
LAST-MODIFIED:20250503T181312Z
UID:5917-1748336400-1748336400@fairwaysandgreens.com
SUMMARY:Facility Hours: 9 am to 9 pm
DESCRIPTION:
URL:https://fairwaysandgreens.com/calendar/facility-hours-9-am-to-9-pm-6-2025-05-27/
END:VEVENT
BEGIN:VEVENT
DTSTART;TZID=America/New_York:20250525T100000
DTEND;TZID=America/New_York:20250525T100000
DTSTAMP:20260421T220031
CREATED:20250328T144248Z
LAST-MODIFIED:20250328T144248Z
UID:5777-1748167200-1748167200@fairwaysandgreens.com
SUMMARY:Facility Hours: 10 am to 7 pm
DESCRIPTION:
URL:https://fairwaysandgreens.com/calendar/facility-hours-10-am-to-7-pm-4-2025-05-25/
END:VEVENT
BEGIN:VEVENT
DTSTART;TZID=America/New_York:20250524T090000
DTEND;TZID=America/New_York:20250524T090000
DTSTAMP:20260421T220031
CREATED:20250503T181601Z
LAST-MODIFIED:20250503T181601Z
UID:5936-1748077200-1748077200@fairwaysandgreens.com
SUMMARY:Facility Hours: 9 am to 7 pm
DESCRIPTION:
URL:https://fairwaysandgreens.com/calendar/facility-hours-9-am-to-7-pm-4-2025-05-24/
END:VEVENT
BEGIN:VEVENT
DTSTART;TZID=America/New_York:20250523T090000
DTEND;TZID=America/New_York:20250523T090000
DTSTAMP:20260421T220031
CREATED:20250503T181516Z
LAST-MODIFIED:20250503T181516Z
UID:5931-1747990800-1747990800@fairwaysandgreens.com
SUMMARY:Facility Hours: 9 am to 8 pm
DESCRIPTION:
URL:https://fairwaysandgreens.com/calendar/facility-hours-9-am-to-8-pm-2025-05-23/
END:VEVENT
BEGIN:VEVENT
DTSTART;TZID=America/New_York:20250522T090000
DTEND;TZID=America/New_York:20250522T090000
DTSTAMP:20260421T220031
CREATED:20250503T181438Z
LAST-MODIFIED:20250503T181438Z
UID:5926-1747904400-1747904400@fairwaysandgreens.com
SUMMARY:Facility Hours: 9 am to 9 pm
DESCRIPTION:
URL:https://fairwaysandgreens.com/calendar/facility-hours-9-am-to-9-pm-8-2025-05-22/
END:VEVENT
BEGIN:VEVENT
DTSTART;TZID=America/New_York:20250521T090000
DTEND;TZID=America/New_York:20250521T090000
DTSTAMP:20260421T220031
CREATED:20250503T181357Z
LAST-MODIFIED:20250503T181357Z
UID:5921-1747818000-1747818000@fairwaysandgreens.com
SUMMARY:Facility Hours: 9 am to 9 pm
DESCRIPTION:
URL:https://fairwaysandgreens.com/calendar/facility-hours-9-am-to-9-pm-7-2025-05-21/
END:VEVENT
BEGIN:VEVENT
DTSTART;TZID=America/New_York:20250520T090000
DTEND;TZID=America/New_York:20250520T090000
DTSTAMP:20260421T220031
CREATED:20250503T181312Z
LAST-MODIFIED:20250503T181312Z
UID:5916-1747731600-1747731600@fairwaysandgreens.com
SUMMARY:Facility Hours: 9 am to 9 pm
DESCRIPTION:
URL:https://fairwaysandgreens.com/calendar/facility-hours-9-am-to-9-pm-6-2025-05-20/
END:VEVENT
BEGIN:VEVENT
DTSTART;TZID=America/New_York:20250519T090000
DTEND;TZID=America/New_York:20250519T090000
DTSTAMP:20260421T220031
CREATED:20250503T181130Z
LAST-MODIFIED:20250503T181130Z
UID:5911-1747645200-1747645200@fairwaysandgreens.com
SUMMARY:Facility Hours: 9 am to 9 pm
DESCRIPTION:Maintenance Monday\, Range opens at 12 pm.
URL:https://fairwaysandgreens.com/calendar/facility-hours-9-am-to-9-pm-5-2025-05-19/
END:VEVENT
BEGIN:VEVENT
DTSTART;TZID=America/New_York:20250518T100000
DTEND;TZID=America/New_York:20250518T100000
DTSTAMP:20260421T220031
CREATED:20250328T144248Z
LAST-MODIFIED:20250328T144248Z
UID:5776-1747562400-1747562400@fairwaysandgreens.com
SUMMARY:Facility Hours: 10 am to 7 pm
DESCRIPTION:
URL:https://fairwaysandgreens.com/calendar/facility-hours-10-am-to-7-pm-4-2025-05-18/
END:VEVENT
BEGIN:VEVENT
DTSTART;TZID=America/New_York:20250517T090000
DTEND;TZID=America/New_York:20250517T090000
DTSTAMP:20260421T220031
CREATED:20250503T181601Z
LAST-MODIFIED:20250503T181601Z
UID:5935-1747472400-1747472400@fairwaysandgreens.com
SUMMARY:Facility Hours: 9 am to 7 pm
DESCRIPTION:
URL:https://fairwaysandgreens.com/calendar/facility-hours-9-am-to-7-pm-4-2025-05-17/
END:VEVENT
BEGIN:VEVENT
DTSTART;TZID=America/New_York:20250516T090000
DTEND;TZID=America/New_York:20250516T090000
DTSTAMP:20260421T220031
CREATED:20250503T181516Z
LAST-MODIFIED:20250503T181516Z
UID:5930-1747386000-1747386000@fairwaysandgreens.com
SUMMARY:Facility Hours: 9 am to 8 pm
DESCRIPTION:
URL:https://fairwaysandgreens.com/calendar/facility-hours-9-am-to-8-pm-2025-05-16/
END:VEVENT
BEGIN:VEVENT
DTSTART;TZID=America/New_York:20250515T090000
DTEND;TZID=America/New_York:20250515T090000
DTSTAMP:20260421T220031
CREATED:20250503T181438Z
LAST-MODIFIED:20250503T181438Z
UID:5925-1747299600-1747299600@fairwaysandgreens.com
SUMMARY:Facility Hours: 9 am to 9 pm
DESCRIPTION:
URL:https://fairwaysandgreens.com/calendar/facility-hours-9-am-to-9-pm-8-2025-05-15/
END:VEVENT
BEGIN:VEVENT
DTSTART;TZID=America/New_York:20250514T090000
DTEND;TZID=America/New_York:20250514T090000
DTSTAMP:20260421T220031
CREATED:20250503T181357Z
LAST-MODIFIED:20250503T181357Z
UID:5920-1747213200-1747213200@fairwaysandgreens.com
SUMMARY:Facility Hours: 9 am to 9 pm
DESCRIPTION:
URL:https://fairwaysandgreens.com/calendar/facility-hours-9-am-to-9-pm-7-2025-05-14/
END:VEVENT
BEGIN:VEVENT
DTSTART;TZID=America/New_York:20250513T090000
DTEND;TZID=America/New_York:20250513T090000
DTSTAMP:20260421T220031
CREATED:20250503T181312Z
LAST-MODIFIED:20250503T181312Z
UID:5915-1747126800-1747126800@fairwaysandgreens.com
SUMMARY:Facility Hours: 9 am to 9 pm
DESCRIPTION:
URL:https://fairwaysandgreens.com/calendar/facility-hours-9-am-to-9-pm-6-2025-05-13/
END:VEVENT
BEGIN:VEVENT
DTSTART;TZID=America/New_York:20250512T090000
DTEND;TZID=America/New_York:20250512T090000
DTSTAMP:20260421T220031
CREATED:20250503T181130Z
LAST-MODIFIED:20250503T181130Z
UID:5910-1747040400-1747040400@fairwaysandgreens.com
SUMMARY:Facility Hours: 9 am to 9 pm
DESCRIPTION:Maintenance Monday\, Range opens at 12 pm.
URL:https://fairwaysandgreens.com/calendar/facility-hours-9-am-to-9-pm-5-2025-05-12/
END:VEVENT
BEGIN:VEVENT
DTSTART;TZID=America/New_York:20250511T100000
DTEND;TZID=America/New_York:20250511T100000
DTSTAMP:20260421T220031
CREATED:20250328T144248Z
LAST-MODIFIED:20250328T144248Z
UID:5775-1746957600-1746957600@fairwaysandgreens.com
SUMMARY:Facility Hours: 10 am to 7 pm
DESCRIPTION:
URL:https://fairwaysandgreens.com/calendar/facility-hours-10-am-to-7-pm-4-2025-05-11/
END:VEVENT
BEGIN:VEVENT
DTSTART;TZID=America/New_York:20250510T090000
DTEND;TZID=America/New_York:20250510T090000
DTSTAMP:20260421T220031
CREATED:20250503T181601Z
LAST-MODIFIED:20250503T181601Z
UID:5934-1746867600-1746867600@fairwaysandgreens.com
SUMMARY:Facility Hours: 9 am to 7 pm
DESCRIPTION:
URL:https://fairwaysandgreens.com/calendar/facility-hours-9-am-to-7-pm-4/
END:VEVENT
BEGIN:VEVENT
DTSTART;TZID=America/New_York:20250509T090000
DTEND;TZID=America/New_York:20250509T090000
DTSTAMP:20260421T220031
CREATED:20250503T181516Z
LAST-MODIFIED:20250503T181516Z
UID:5929-1746781200-1746781200@fairwaysandgreens.com
SUMMARY:Facility Hours: 9 am to 8 pm
DESCRIPTION:
URL:https://fairwaysandgreens.com/calendar/facility-hours-9-am-to-8-pm/
END:VEVENT
BEGIN:VEVENT
DTSTART;TZID=America/New_York:20250508T090000
DTEND;TZID=America/New_York:20250508T090000
DTSTAMP:20260421T220031
CREATED:20250503T181438Z
LAST-MODIFIED:20250503T181438Z
UID:5924-1746694800-1746694800@fairwaysandgreens.com
SUMMARY:Facility Hours: 9 am to 9 pm
DESCRIPTION:
URL:https://fairwaysandgreens.com/calendar/facility-hours-9-am-to-9-pm-8/
END:VEVENT
BEGIN:VEVENT
DTSTART;TZID=America/New_York:20250507T090000
DTEND;TZID=America/New_York:20250507T090000
DTSTAMP:20260421T220031
CREATED:20250503T181357Z
LAST-MODIFIED:20250503T181357Z
UID:5919-1746608400-1746608400@fairwaysandgreens.com
SUMMARY:Facility Hours: 9 am to 9 pm
DESCRIPTION:
URL:https://fairwaysandgreens.com/calendar/facility-hours-9-am-to-9-pm-7/
END:VEVENT
BEGIN:VEVENT
DTSTART;TZID=America/New_York:20250506T090000
DTEND;TZID=America/New_York:20250506T090000
DTSTAMP:20260421T220031
CREATED:20250503T181312Z
LAST-MODIFIED:20250503T181312Z
UID:5914-1746522000-1746522000@fairwaysandgreens.com
SUMMARY:Facility Hours: 9 am to 9 pm
DESCRIPTION:
URL:https://fairwaysandgreens.com/calendar/facility-hours-9-am-to-9-pm-6/
END:VEVENT
BEGIN:VEVENT
DTSTART;TZID=America/New_York:20250505T090000
DTEND;TZID=America/New_York:20250505T090000
DTSTAMP:20260421T220031
CREATED:20250503T181130Z
LAST-MODIFIED:20250503T181130Z
UID:5909-1746435600-1746435600@fairwaysandgreens.com
SUMMARY:Facility Hours: 9 am to 9 pm
DESCRIPTION:Maintenance Monday\, Range opens at 12 pm.
URL:https://fairwaysandgreens.com/calendar/facility-hours-9-am-to-9-pm-5/
END:VEVENT
BEGIN:VEVENT
DTSTART;TZID=America/New_York:20250504T100000
DTEND;TZID=America/New_York:20250504T100000
DTSTAMP:20260421T220031
CREATED:20250328T144248Z
LAST-MODIFIED:20250328T144248Z
UID:5774-1746352800-1746352800@fairwaysandgreens.com
SUMMARY:Facility Hours: 10 am to 7 pm
DESCRIPTION:
URL:https://fairwaysandgreens.com/calendar/facility-hours-10-am-to-7-pm-4-2025-05-04/
END:VEVENT
BEGIN:VEVENT
DTSTART;TZID=America/New_York:20250427T100000
DTEND;TZID=America/New_York:20250427T100000
DTSTAMP:20260421T220031
CREATED:20250328T144248Z
LAST-MODIFIED:20250328T144248Z
UID:5773-1745748000-1745748000@fairwaysandgreens.com
SUMMARY:Facility Hours: 10 am to 7 pm
DESCRIPTION:
URL:https://fairwaysandgreens.com/calendar/facility-hours-10-am-to-7-pm-4-2025-04-27/
END:VEVENT
END:VCALENDAR