BEGIN:VCALENDAR
VERSION:2.0
PRODID:-//Fairways and Greens - ECPv6.15.13//NONSGML v1.0//EN
CALSCALE:GREGORIAN
METHOD:PUBLISH
X-WR-CALNAME:Fairways and Greens
X-ORIGINAL-URL:https://fairwaysandgreens.com
X-WR-CALDESC:Events for Fairways and Greens
REFRESH-INTERVAL;VALUE=DURATION:PT1H
X-Robots-Tag:noindex
X-PUBLISHED-TTL:PT1H
BEGIN:VTIMEZONE
TZID:America/New_York
BEGIN:DAYLIGHT
TZOFFSETFROM:-0500
TZOFFSETTO:-0400
TZNAME:EDT
DTSTART:20230312T070000
END:DAYLIGHT
BEGIN:STANDARD
TZOFFSETFROM:-0400
TZOFFSETTO:-0500
TZNAME:EST
DTSTART:20231105T060000
END:STANDARD
BEGIN:DAYLIGHT
TZOFFSETFROM:-0500
TZOFFSETTO:-0400
TZNAME:EDT
DTSTART:20240310T070000
END:DAYLIGHT
BEGIN:STANDARD
TZOFFSETFROM:-0400
TZOFFSETTO:-0500
TZNAME:EST
DTSTART:20241103T060000
END:STANDARD
BEGIN:DAYLIGHT
TZOFFSETFROM:-0500
TZOFFSETTO:-0400
TZNAME:EDT
DTSTART:20250309T070000
END:DAYLIGHT
BEGIN:STANDARD
TZOFFSETFROM:-0400
TZOFFSETTO:-0500
TZNAME:EST
DTSTART:20251102T060000
END:STANDARD
END:VTIMEZONE
BEGIN:VEVENT
DTSTART;VALUE=DATE:20241104
DTEND;VALUE=DATE:20241105
DTSTAMP:20260422T184017
CREATED:20241014T201255Z
LAST-MODIFIED:20241014T201255Z
UID:5412-1730678400-1730764799@fairwaysandgreens.com
SUMMARY:Facility Hours: 9 am to 8 pm
DESCRIPTION:Maintenance Monday: The range is closed until 12 pm.
URL:https://fairwaysandgreens.com/calendar/facility-hours-9-am-to-8-pm-8/
END:VEVENT
BEGIN:VEVENT
DTSTART;TZID=America/New_York:20241103T100000
DTEND;TZID=America/New_York:20241103T100000
DTSTAMP:20260422T184017
CREATED:20241014T200551Z
LAST-MODIFIED:20241014T201019Z
UID:5326-1730628000-1730628000@fairwaysandgreens.com
SUMMARY:Facility Hours: 10 am to 6 pm
DESCRIPTION:
URL:https://fairwaysandgreens.com/calendar/facility-hours/
END:VEVENT
BEGIN:VEVENT
DTSTART;TZID=America/New_York:20241021T090000
DTEND;TZID=America/New_York:20241021T090000
DTSTAMP:20260422T184017
CREATED:20240326T165801Z
LAST-MODIFIED:20240705T162112Z
UID:5093-1729501200-1729501200@fairwaysandgreens.com
SUMMARY:Facility Hours: 9 am to 9 pm
DESCRIPTION:The range is closed until 12 pm for Maintenance Monday
URL:https://fairwaysandgreens.com/calendar/facility-hours-9-am-to-9-pm-2024-10-21/
END:VEVENT
BEGIN:VEVENT
DTSTART;TZID=America/New_York:20241014T090000
DTEND;TZID=America/New_York:20241014T090000
DTSTAMP:20260422T184017
CREATED:20240326T165801Z
LAST-MODIFIED:20240705T162112Z
UID:5092-1728896400-1728896400@fairwaysandgreens.com
SUMMARY:Facility Hours: 9 am to 9 pm
DESCRIPTION:The range is closed until 12 pm for Maintenance Monday
URL:https://fairwaysandgreens.com/calendar/facility-hours-9-am-to-9-pm-2024-10-14/
END:VEVENT
BEGIN:VEVENT
DTSTART;TZID=America/New_York:20241007T090000
DTEND;TZID=America/New_York:20241007T090000
DTSTAMP:20260422T184017
CREATED:20240326T165801Z
LAST-MODIFIED:20240705T162112Z
UID:5091-1728291600-1728291600@fairwaysandgreens.com
SUMMARY:Facility Hours: 9 am to 9 pm
DESCRIPTION:The range is closed until 12 pm for Maintenance Monday
URL:https://fairwaysandgreens.com/calendar/facility-hours-9-am-to-9-pm-2024-10-07/
END:VEVENT
BEGIN:VEVENT
DTSTART;TZID=America/New_York:20240930T090000
DTEND;TZID=America/New_York:20240930T090000
DTSTAMP:20260422T184017
CREATED:20240326T165801Z
LAST-MODIFIED:20240705T162112Z
UID:5090-1727686800-1727686800@fairwaysandgreens.com
SUMMARY:Facility Hours: 9 am to 9 pm
DESCRIPTION:The range is closed until 12 pm for Maintenance Monday
URL:https://fairwaysandgreens.com/calendar/facility-hours-9-am-to-9-pm-2024-09-30/
END:VEVENT
BEGIN:VEVENT
DTSTART;TZID=America/New_York:20240923T090000
DTEND;TZID=America/New_York:20240923T090000
DTSTAMP:20260422T184017
CREATED:20240326T165801Z
LAST-MODIFIED:20240705T162112Z
UID:5089-1727082000-1727082000@fairwaysandgreens.com
SUMMARY:Facility Hours: 9 am to 9 pm
DESCRIPTION:The range is closed until 12 pm for Maintenance Monday
URL:https://fairwaysandgreens.com/calendar/facility-hours-9-am-to-9-pm-2024-09-23/
END:VEVENT
BEGIN:VEVENT
DTSTART;TZID=America/New_York:20240916T090000
DTEND;TZID=America/New_York:20240916T090000
DTSTAMP:20260422T184017
CREATED:20240326T165801Z
LAST-MODIFIED:20240705T162112Z
UID:5088-1726477200-1726477200@fairwaysandgreens.com
SUMMARY:Facility Hours: 9 am to 9 pm
DESCRIPTION:The range is closed until 12 pm for Maintenance Monday
URL:https://fairwaysandgreens.com/calendar/facility-hours-9-am-to-9-pm-2024-09-16/
END:VEVENT
BEGIN:VEVENT
DTSTART;TZID=America/New_York:20240909T090000
DTEND;TZID=America/New_York:20240909T090000
DTSTAMP:20260422T184017
CREATED:20240326T165801Z
LAST-MODIFIED:20240705T162111Z
UID:5087-1725872400-1725872400@fairwaysandgreens.com
SUMMARY:Facility Hours: 9 am to 9 pm
DESCRIPTION:The range is closed until 12 pm for Maintenance Monday
URL:https://fairwaysandgreens.com/calendar/facility-hours-9-am-to-9-pm-2024-09-09/
END:VEVENT
BEGIN:VEVENT
DTSTART;TZID=America/New_York:20240902T090000
DTEND;TZID=America/New_York:20240902T090000
DTSTAMP:20260422T184017
CREATED:20240326T165801Z
LAST-MODIFIED:20240705T162111Z
UID:5086-1725267600-1725267600@fairwaysandgreens.com
SUMMARY:Facility Hours: 9 am to 9 pm
DESCRIPTION:The range is closed until 12 pm for Maintenance Monday
URL:https://fairwaysandgreens.com/calendar/facility-hours-9-am-to-9-pm-2024-09-02/
END:VEVENT
BEGIN:VEVENT
DTSTART;VALUE=DATE:20240831
DTEND;VALUE=DATE:20240901
DTSTAMP:20260422T184017
CREATED:20240705T162654Z
LAST-MODIFIED:20240705T162654Z
UID:5273-1725062400-1725148799@fairwaysandgreens.com
SUMMARY:Facility Hours: 9 am to 7 pm
DESCRIPTION:
URL:https://fairwaysandgreens.com/calendar/facility-hours-9-am-to-7-pm-2-2024-08-31/
END:VEVENT
BEGIN:VEVENT
DTSTART;VALUE=DATE:20240830
DTEND;VALUE=DATE:20240831
DTSTAMP:20260422T184017
CREATED:20240705T162558Z
LAST-MODIFIED:20240705T162558Z
UID:5263-1724976000-1725062399@fairwaysandgreens.com
SUMMARY:Facility Hours: 9 am to 8 pm
DESCRIPTION:
URL:https://fairwaysandgreens.com/calendar/facility-hours-9-am-to-8-pm-7-2024-08-30/
END:VEVENT
BEGIN:VEVENT
DTSTART;VALUE=DATE:20240829
DTEND;VALUE=DATE:20240830
DTSTAMP:20260422T184017
CREATED:20240705T162503Z
LAST-MODIFIED:20240705T162503Z
UID:5253-1724889600-1724975999@fairwaysandgreens.com
SUMMARY:Facility Hours: 9 am to 9 pm
DESCRIPTION:
URL:https://fairwaysandgreens.com/calendar/facility-hours-9-am-to-9-pm-4-2024-08-29/
END:VEVENT
BEGIN:VEVENT
DTSTART;VALUE=DATE:20240828
DTEND;VALUE=DATE:20240829
DTSTAMP:20260422T184017
CREATED:20240705T162357Z
LAST-MODIFIED:20240705T162357Z
UID:5244-1724803200-1724889599@fairwaysandgreens.com
SUMMARY:Facility Hours: 9 am to 9 pm
DESCRIPTION:
URL:https://fairwaysandgreens.com/calendar/facility-hours-9-am-to-9-pm-3-2024-08-28/
END:VEVENT
BEGIN:VEVENT
DTSTART;VALUE=DATE:20240827
DTEND;VALUE=DATE:20240828
DTSTAMP:20260422T184017
CREATED:20240705T162248Z
LAST-MODIFIED:20240705T162248Z
UID:5234-1724716800-1724803199@fairwaysandgreens.com
SUMMARY:Facility Hours: 9 am to 9 pm
DESCRIPTION:
URL:https://fairwaysandgreens.com/calendar/facility-hours-9-am-to-9-pm-2-2024-08-27/
END:VEVENT
BEGIN:VEVENT
DTSTART;TZID=America/New_York:20240826T090000
DTEND;TZID=America/New_York:20240826T090000
DTSTAMP:20260422T184017
CREATED:20240326T165801Z
LAST-MODIFIED:20240705T162111Z
UID:5085-1724662800-1724662800@fairwaysandgreens.com
SUMMARY:Facility Hours: 9 am to 9 pm
DESCRIPTION:The range is closed until 12 pm for Maintenance Monday
URL:https://fairwaysandgreens.com/calendar/facility-hours-9-am-to-9-pm-2024-08-26/
END:VEVENT
BEGIN:VEVENT
DTSTART;VALUE=DATE:20240824
DTEND;VALUE=DATE:20240825
DTSTAMP:20260422T184017
CREATED:20240705T162654Z
LAST-MODIFIED:20240705T162654Z
UID:5272-1724457600-1724543999@fairwaysandgreens.com
SUMMARY:Facility Hours: 9 am to 7 pm
DESCRIPTION:
URL:https://fairwaysandgreens.com/calendar/facility-hours-9-am-to-7-pm-2-2024-08-24/
END:VEVENT
BEGIN:VEVENT
DTSTART;VALUE=DATE:20240823
DTEND;VALUE=DATE:20240824
DTSTAMP:20260422T184017
CREATED:20240705T162558Z
LAST-MODIFIED:20240705T162558Z
UID:5262-1724371200-1724457599@fairwaysandgreens.com
SUMMARY:Facility Hours: 9 am to 8 pm
DESCRIPTION:
URL:https://fairwaysandgreens.com/calendar/facility-hours-9-am-to-8-pm-7-2024-08-23/
END:VEVENT
BEGIN:VEVENT
DTSTART;VALUE=DATE:20240822
DTEND;VALUE=DATE:20240823
DTSTAMP:20260422T184017
CREATED:20240705T162503Z
LAST-MODIFIED:20240705T162503Z
UID:5252-1724284800-1724371199@fairwaysandgreens.com
SUMMARY:Facility Hours: 9 am to 9 pm
DESCRIPTION:
URL:https://fairwaysandgreens.com/calendar/facility-hours-9-am-to-9-pm-4-2024-08-22/
END:VEVENT
BEGIN:VEVENT
DTSTART;VALUE=DATE:20240821
DTEND;VALUE=DATE:20240822
DTSTAMP:20260422T184017
CREATED:20240705T162357Z
LAST-MODIFIED:20240705T162357Z
UID:5243-1724198400-1724284799@fairwaysandgreens.com
SUMMARY:Facility Hours: 9 am to 9 pm
DESCRIPTION:
URL:https://fairwaysandgreens.com/calendar/facility-hours-9-am-to-9-pm-3-2024-08-21/
END:VEVENT
BEGIN:VEVENT
DTSTART;VALUE=DATE:20240820
DTEND;VALUE=DATE:20240821
DTSTAMP:20260422T184017
CREATED:20240705T162248Z
LAST-MODIFIED:20240705T162248Z
UID:5233-1724112000-1724198399@fairwaysandgreens.com
SUMMARY:Facility Hours: 9 am to 9 pm
DESCRIPTION:
URL:https://fairwaysandgreens.com/calendar/facility-hours-9-am-to-9-pm-2-2024-08-20/
END:VEVENT
BEGIN:VEVENT
DTSTART;TZID=America/New_York:20240819T090000
DTEND;TZID=America/New_York:20240819T090000
DTSTAMP:20260422T184017
CREATED:20240326T165801Z
LAST-MODIFIED:20240705T162110Z
UID:5084-1724058000-1724058000@fairwaysandgreens.com
SUMMARY:Facility Hours: 9 am to 9 pm
DESCRIPTION:The range is closed until 12 pm for Maintenance Monday
URL:https://fairwaysandgreens.com/calendar/facility-hours-9-am-to-9-pm-2024-08-19/
END:VEVENT
BEGIN:VEVENT
DTSTART;VALUE=DATE:20240817
DTEND;VALUE=DATE:20240818
DTSTAMP:20260422T184017
CREATED:20240705T162654Z
LAST-MODIFIED:20240705T162654Z
UID:5271-1723852800-1723939199@fairwaysandgreens.com
SUMMARY:Facility Hours: 9 am to 7 pm
DESCRIPTION:
URL:https://fairwaysandgreens.com/calendar/facility-hours-9-am-to-7-pm-2-2024-08-17/
END:VEVENT
BEGIN:VEVENT
DTSTART;VALUE=DATE:20240816
DTEND;VALUE=DATE:20240817
DTSTAMP:20260422T184017
CREATED:20240705T162558Z
LAST-MODIFIED:20240705T162558Z
UID:5261-1723766400-1723852799@fairwaysandgreens.com
SUMMARY:Facility Hours: 9 am to 8 pm
DESCRIPTION:
URL:https://fairwaysandgreens.com/calendar/facility-hours-9-am-to-8-pm-7-2024-08-16/
END:VEVENT
BEGIN:VEVENT
DTSTART;VALUE=DATE:20240815
DTEND;VALUE=DATE:20240816
DTSTAMP:20260422T184017
CREATED:20240705T162503Z
LAST-MODIFIED:20240705T162503Z
UID:5251-1723680000-1723766399@fairwaysandgreens.com
SUMMARY:Facility Hours: 9 am to 9 pm
DESCRIPTION:
URL:https://fairwaysandgreens.com/calendar/facility-hours-9-am-to-9-pm-4-2024-08-15/
END:VEVENT
BEGIN:VEVENT
DTSTART;VALUE=DATE:20240814
DTEND;VALUE=DATE:20240815
DTSTAMP:20260422T184017
CREATED:20240705T162357Z
LAST-MODIFIED:20240705T162357Z
UID:5242-1723593600-1723679999@fairwaysandgreens.com
SUMMARY:Facility Hours: 9 am to 9 pm
DESCRIPTION:
URL:https://fairwaysandgreens.com/calendar/facility-hours-9-am-to-9-pm-3-2024-08-14/
END:VEVENT
BEGIN:VEVENT
DTSTART;VALUE=DATE:20240813
DTEND;VALUE=DATE:20240814
DTSTAMP:20260422T184017
CREATED:20240705T162248Z
LAST-MODIFIED:20240705T162248Z
UID:5232-1723507200-1723593599@fairwaysandgreens.com
SUMMARY:Facility Hours: 9 am to 9 pm
DESCRIPTION:
URL:https://fairwaysandgreens.com/calendar/facility-hours-9-am-to-9-pm-2-2024-08-13/
END:VEVENT
BEGIN:VEVENT
DTSTART;TZID=America/New_York:20240812T090000
DTEND;TZID=America/New_York:20240812T090000
DTSTAMP:20260422T184017
CREATED:20240326T165801Z
LAST-MODIFIED:20240705T162110Z
UID:5083-1723453200-1723453200@fairwaysandgreens.com
SUMMARY:Facility Hours: 9 am to 9 pm
DESCRIPTION:The range is closed until 12 pm for Maintenance Monday
URL:https://fairwaysandgreens.com/calendar/facility-hours-9-am-to-9-pm-2024-08-12/
END:VEVENT
BEGIN:VEVENT
DTSTART;VALUE=DATE:20240810
DTEND;VALUE=DATE:20240811
DTSTAMP:20260422T184017
CREATED:20240705T162654Z
LAST-MODIFIED:20240705T162654Z
UID:5270-1723248000-1723334399@fairwaysandgreens.com
SUMMARY:Facility Hours: 9 am to 7 pm
DESCRIPTION:
URL:https://fairwaysandgreens.com/calendar/facility-hours-9-am-to-7-pm-2-2024-08-10/
END:VEVENT
BEGIN:VEVENT
DTSTART;VALUE=DATE:20240809
DTEND;VALUE=DATE:20240810
DTSTAMP:20260422T184017
CREATED:20240705T162558Z
LAST-MODIFIED:20240705T162558Z
UID:5260-1723161600-1723247999@fairwaysandgreens.com
SUMMARY:Facility Hours: 9 am to 8 pm
DESCRIPTION:
URL:https://fairwaysandgreens.com/calendar/facility-hours-9-am-to-8-pm-7-2024-08-09/
END:VEVENT
END:VCALENDAR