BEGIN:VCALENDAR
VERSION:2.0
PRODID:-//Fairways and Greens - ECPv6.15.13//NONSGML v1.0//EN
CALSCALE:GREGORIAN
METHOD:PUBLISH
X-ORIGINAL-URL:https://fairwaysandgreens.com
X-WR-CALDESC:Events for Fairways and Greens
REFRESH-INTERVAL;VALUE=DURATION:PT1H
X-Robots-Tag:noindex
X-PUBLISHED-TTL:PT1H
BEGIN:VTIMEZONE
TZID:America/New_York
BEGIN:DAYLIGHT
TZOFFSETFROM:-0500
TZOFFSETTO:-0400
TZNAME:EDT
DTSTART:20250309T070000
END:DAYLIGHT
BEGIN:STANDARD
TZOFFSETFROM:-0400
TZOFFSETTO:-0500
TZNAME:EST
DTSTART:20251102T060000
END:STANDARD
BEGIN:DAYLIGHT
TZOFFSETFROM:-0500
TZOFFSETTO:-0400
TZNAME:EDT
DTSTART:20260308T070000
END:DAYLIGHT
BEGIN:STANDARD
TZOFFSETFROM:-0400
TZOFFSETTO:-0500
TZNAME:EST
DTSTART:20261101T060000
END:STANDARD
BEGIN:DAYLIGHT
TZOFFSETFROM:-0500
TZOFFSETTO:-0400
TZNAME:EDT
DTSTART:20270314T070000
END:DAYLIGHT
BEGIN:STANDARD
TZOFFSETFROM:-0400
TZOFFSETTO:-0500
TZNAME:EST
DTSTART:20271107T060000
END:STANDARD
END:VTIMEZONE
BEGIN:VEVENT
DTSTART;VALUE=DATE:20260409
DTEND;VALUE=DATE:20260413
DTSTAMP:20260421T111741
CREATED:20260319T162316Z
LAST-MODIFIED:20260319T162316Z
UID:6054-1775692800-1776038399@fairwaysandgreens.com
SUMMARY:Masters Tournament
DESCRIPTION:
URL:https://fairwaysandgreens.com/calendar/masters-tournament/
END:VEVENT
BEGIN:VEVENT
DTSTART;VALUE=DATE:20260417
DTEND;VALUE=DATE:20260418
DTSTAMP:20260421T111741
CREATED:20260207T155242Z
LAST-MODIFIED:20260207T155242Z
UID:6017-1776384000-1776470399@fairwaysandgreens.com
SUMMARY:First Tee Friday
DESCRIPTION:
URL:https://fairwaysandgreens.com/calendar/first-tee-friday/
END:VEVENT
BEGIN:VEVENT
DTSTART;TZID=America/New_York:20260502T100000
DTEND;TZID=America/New_York:20260502T100000
DTSTAMP:20260421T111741
CREATED:20260319T162406Z
LAST-MODIFIED:20260319T162406Z
UID:6057-1777716000-1777716000@fairwaysandgreens.com
SUMMARY:Super Demo Day
DESCRIPTION:
URL:https://fairwaysandgreens.com/calendar/super-demo-day/
END:VEVENT
BEGIN:VEVENT
DTSTART;VALUE=DATE:20260515
DTEND;VALUE=DATE:20260516
DTSTAMP:20260421T111741
CREATED:20260207T155312Z
LAST-MODIFIED:20260207T155312Z
UID:6019-1778803200-1778889599@fairwaysandgreens.com
SUMMARY:First Tee Friday
DESCRIPTION:
URL:https://fairwaysandgreens.com/calendar/first-tee-friday-2/
END:VEVENT
BEGIN:VEVENT
DTSTART;TZID=America/New_York:20260516T080000
DTEND;TZID=America/New_York:20260516T080000
DTSTAMP:20260421T111741
CREATED:20260320T190833Z
LAST-MODIFIED:20260320T191903Z
UID:6062-1778918400-1778918400@fairwaysandgreens.com
SUMMARY:Visit Knoxville Open Junior Golf Day
DESCRIPTION:The entire outdoor facility will be closed until 1 pm or until event is completed.
URL:https://fairwaysandgreens.com/calendar/visit-knoxville-open-junior-golf-day/
END:VEVENT
BEGIN:VEVENT
DTSTART;VALUE=DATE:20260525
DTEND;VALUE=DATE:20260526
DTSTAMP:20260421T111741
CREATED:20251223T172213Z
LAST-MODIFIED:20251223T172213Z
UID:5999-1779667200-1779753599@fairwaysandgreens.com
SUMMARY:Memorial Day
DESCRIPTION:Facility Hours: 9 am to 6 pm
URL:https://fairwaysandgreens.com/calendar/memorial-day/
END:VEVENT
BEGIN:VEVENT
DTSTART;VALUE=DATE:20260612
DTEND;VALUE=DATE:20260613
DTSTAMP:20260421T111741
CREATED:20260207T155339Z
LAST-MODIFIED:20260207T155339Z
UID:6021-1781222400-1781308799@fairwaysandgreens.com
SUMMARY:First Tee Friday
DESCRIPTION:
URL:https://fairwaysandgreens.com/calendar/first-tee-friday-3/
END:VEVENT
BEGIN:VEVENT
DTSTART;TZID=America/New_York:20260612T080000
DTEND;TZID=America/New_York:20260612T080000
DTSTAMP:20260421T111741
CREATED:20251223T172455Z
LAST-MODIFIED:20251223T172455Z
UID:6001-1781251200-1781251200@fairwaysandgreens.com
SUMMARY:2026 Drive-Chip-Putt Local Qualifier
DESCRIPTION:The entire outdoor area will be closed until 3 pm.
URL:https://fairwaysandgreens.com/calendar/2026-drive-chip-putt-local-qualifier/
END:VEVENT
BEGIN:VEVENT
DTSTART;VALUE=DATE:20260717
DTEND;VALUE=DATE:20260718
DTSTAMP:20260421T111741
CREATED:20260207T155406Z
LAST-MODIFIED:20260207T155406Z
UID:6023-1784246400-1784332799@fairwaysandgreens.com
SUMMARY:First Tee Friday
DESCRIPTION:
URL:https://fairwaysandgreens.com/calendar/first-tee-friday-4/
END:VEVENT
BEGIN:VEVENT
DTSTART;VALUE=DATE:20260814
DTEND;VALUE=DATE:20260815
DTSTAMP:20260421T111741
CREATED:20260207T155434Z
LAST-MODIFIED:20260207T155434Z
UID:6025-1786665600-1786751999@fairwaysandgreens.com
SUMMARY:First Tee Friday
DESCRIPTION:
URL:https://fairwaysandgreens.com/calendar/first-tee-friday-5/
END:VEVENT
BEGIN:VEVENT
DTSTART;VALUE=DATE:20260918
DTEND;VALUE=DATE:20260919
DTSTAMP:20260421T111741
CREATED:20260207T155507Z
LAST-MODIFIED:20260207T155507Z
UID:6027-1789689600-1789775999@fairwaysandgreens.com
SUMMARY:First Tee Friday
DESCRIPTION:
URL:https://fairwaysandgreens.com/calendar/first-tee-friday-6/
END:VEVENT
BEGIN:VEVENT
DTSTART;VALUE=DATE:20261023
DTEND;VALUE=DATE:20261024
DTSTAMP:20260421T111741
CREATED:20260207T155540Z
LAST-MODIFIED:20260207T155540Z
UID:6029-1792713600-1792799999@fairwaysandgreens.com
SUMMARY:First Tee Friday
DESCRIPTION:
URL:https://fairwaysandgreens.com/calendar/first-tee-friday-7/
END:VEVENT
BEGIN:VEVENT
DTSTART;VALUE=DATE:20261113
DTEND;VALUE=DATE:20261114
DTSTAMP:20260421T111741
CREATED:20260207T155608Z
LAST-MODIFIED:20260207T155608Z
UID:6031-1794528000-1794614399@fairwaysandgreens.com
SUMMARY:First Tee Friday
DESCRIPTION:
URL:https://fairwaysandgreens.com/calendar/first-tee-friday-8/
END:VEVENT
END:VCALENDAR