BEGIN:VCALENDAR
VERSION:2.0
PRODID:-//Fairways and Greens - ECPv6.15.13//NONSGML v1.0//EN
CALSCALE:GREGORIAN
METHOD:PUBLISH
X-WR-CALNAME:Fairways and Greens
X-ORIGINAL-URL:https://fairwaysandgreens.com
X-WR-CALDESC:Events for Fairways and Greens
REFRESH-INTERVAL;VALUE=DURATION:PT1H
X-Robots-Tag:noindex
X-PUBLISHED-TTL:PT1H
BEGIN:VTIMEZONE
TZID:America/New_York
BEGIN:DAYLIGHT
TZOFFSETFROM:-0500
TZOFFSETTO:-0400
TZNAME:EDT
DTSTART:20230312T070000
END:DAYLIGHT
BEGIN:STANDARD
TZOFFSETFROM:-0400
TZOFFSETTO:-0500
TZNAME:EST
DTSTART:20231105T060000
END:STANDARD
BEGIN:DAYLIGHT
TZOFFSETFROM:-0500
TZOFFSETTO:-0400
TZNAME:EDT
DTSTART:20240310T070000
END:DAYLIGHT
BEGIN:STANDARD
TZOFFSETFROM:-0400
TZOFFSETTO:-0500
TZNAME:EST
DTSTART:20241103T060000
END:STANDARD
BEGIN:DAYLIGHT
TZOFFSETFROM:-0500
TZOFFSETTO:-0400
TZNAME:EDT
DTSTART:20250309T070000
END:DAYLIGHT
BEGIN:STANDARD
TZOFFSETFROM:-0400
TZOFFSETTO:-0500
TZNAME:EST
DTSTART:20251102T060000
END:STANDARD
END:VTIMEZONE
BEGIN:VEVENT
DTSTART;TZID=America/New_York:20241014T090000
DTEND;TZID=America/New_York:20241014T090000
DTSTAMP:20260422T180053
CREATED:20240326T165801Z
LAST-MODIFIED:20240705T162112Z
UID:5092-1728896400-1728896400@fairwaysandgreens.com
SUMMARY:Facility Hours: 9 am to 9 pm
DESCRIPTION:The range is closed until 12 pm for Maintenance Monday
URL:https://fairwaysandgreens.com/calendar/facility-hours-9-am-to-9-pm-2024-10-14/
END:VEVENT
BEGIN:VEVENT
DTSTART;TZID=America/New_York:20241021T090000
DTEND;TZID=America/New_York:20241021T090000
DTSTAMP:20260422T180053
CREATED:20240326T165801Z
LAST-MODIFIED:20240705T162112Z
UID:5093-1729501200-1729501200@fairwaysandgreens.com
SUMMARY:Facility Hours: 9 am to 9 pm
DESCRIPTION:The range is closed until 12 pm for Maintenance Monday
URL:https://fairwaysandgreens.com/calendar/facility-hours-9-am-to-9-pm-2024-10-21/
END:VEVENT
BEGIN:VEVENT
DTSTART;TZID=America/New_York:20241103T100000
DTEND;TZID=America/New_York:20241103T100000
DTSTAMP:20260422T180053
CREATED:20241014T200551Z
LAST-MODIFIED:20241014T201019Z
UID:5326-1730628000-1730628000@fairwaysandgreens.com
SUMMARY:Facility Hours: 10 am to 6 pm
DESCRIPTION:
URL:https://fairwaysandgreens.com/calendar/facility-hours/
END:VEVENT
BEGIN:VEVENT
DTSTART;VALUE=DATE:20241104
DTEND;VALUE=DATE:20241105
DTSTAMP:20260422T180053
CREATED:20241014T201255Z
LAST-MODIFIED:20241014T201255Z
UID:5412-1730678400-1730764799@fairwaysandgreens.com
SUMMARY:Facility Hours: 9 am to 8 pm
DESCRIPTION:Maintenance Monday: The range is closed until 12 pm.
URL:https://fairwaysandgreens.com/calendar/facility-hours-9-am-to-8-pm-8/
END:VEVENT
BEGIN:VEVENT
DTSTART;VALUE=DATE:20241105
DTEND;VALUE=DATE:20241106
DTSTAMP:20260422T180053
CREATED:20241014T201542Z
LAST-MODIFIED:20241014T201542Z
UID:5438-1730764800-1730851199@fairwaysandgreens.com
SUMMARY:Facility Hours: 9 am 8 pm
DESCRIPTION:
URL:https://fairwaysandgreens.com/calendar/facility-hours-9-am-8-pm/
END:VEVENT
BEGIN:VEVENT
DTSTART;VALUE=DATE:20241106
DTEND;VALUE=DATE:20241107
DTSTAMP:20260422T180053
CREATED:20241014T201702Z
LAST-MODIFIED:20241014T201702Z
UID:5462-1730851200-1730937599@fairwaysandgreens.com
SUMMARY:Facility Hours: 9 am to 8 pm
DESCRIPTION:
URL:https://fairwaysandgreens.com/calendar/facility-hours-9-am-to-8-pm-9/
END:VEVENT
BEGIN:VEVENT
DTSTART;VALUE=DATE:20241107
DTEND;VALUE=DATE:20241108
DTSTAMP:20260422T180053
CREATED:20241014T201910Z
LAST-MODIFIED:20241014T201910Z
UID:5490-1730937600-1731023999@fairwaysandgreens.com
SUMMARY:Facility Hours: 9 am to 8 pm
DESCRIPTION:
URL:https://fairwaysandgreens.com/calendar/facility-hours-9-am-to-8-pm-10/
END:VEVENT
BEGIN:VEVENT
DTSTART;VALUE=DATE:20241108
DTEND;VALUE=DATE:20241109
DTSTAMP:20260422T180053
CREATED:20241014T202122Z
LAST-MODIFIED:20241014T202122Z
UID:5514-1731024000-1731110399@fairwaysandgreens.com
SUMMARY:Facility Hours: 9 am to 7 pm
DESCRIPTION:
URL:https://fairwaysandgreens.com/calendar/facility-hours-9-am-to-7-pm-3/
END:VEVENT
BEGIN:VEVENT
DTSTART;VALUE=DATE:20241109
DTEND;VALUE=DATE:20241110
DTSTAMP:20260422T180053
CREATED:20241014T202219Z
LAST-MODIFIED:20241014T202219Z
UID:5538-1731110400-1731196799@fairwaysandgreens.com
SUMMARY:Facility Hours: 9 am to 6 pm
DESCRIPTION:
URL:https://fairwaysandgreens.com/calendar/facility-hours-9-am-to-6-pm-2/
END:VEVENT
BEGIN:VEVENT
DTSTART;TZID=America/New_York:20241110T100000
DTEND;TZID=America/New_York:20241110T100000
DTSTAMP:20260422T180053
CREATED:20241014T200551Z
LAST-MODIFIED:20241014T201019Z
UID:5327-1731232800-1731232800@fairwaysandgreens.com
SUMMARY:Facility Hours: 10 am to 6 pm
DESCRIPTION:
URL:https://fairwaysandgreens.com/calendar/facility-hours-2024-11-10/
END:VEVENT
BEGIN:VEVENT
DTSTART;VALUE=DATE:20241111
DTEND;VALUE=DATE:20241112
DTSTAMP:20260422T180053
CREATED:20241014T201255Z
LAST-MODIFIED:20241014T201255Z
UID:5413-1731283200-1731369599@fairwaysandgreens.com
SUMMARY:Facility Hours: 9 am to 8 pm
DESCRIPTION:Maintenance Monday: The range is closed until 12 pm.
URL:https://fairwaysandgreens.com/calendar/facility-hours-9-am-to-8-pm-8-2024-11-11/
END:VEVENT
BEGIN:VEVENT
DTSTART;VALUE=DATE:20241112
DTEND;VALUE=DATE:20241113
DTSTAMP:20260422T180053
CREATED:20241014T201542Z
LAST-MODIFIED:20241014T201542Z
UID:5439-1731369600-1731455999@fairwaysandgreens.com
SUMMARY:Facility Hours: 9 am 8 pm
DESCRIPTION:
URL:https://fairwaysandgreens.com/calendar/facility-hours-9-am-8-pm-2024-11-12/
END:VEVENT
BEGIN:VEVENT
DTSTART;VALUE=DATE:20241113
DTEND;VALUE=DATE:20241114
DTSTAMP:20260422T180053
CREATED:20241014T201702Z
LAST-MODIFIED:20241014T201702Z
UID:5463-1731456000-1731542399@fairwaysandgreens.com
SUMMARY:Facility Hours: 9 am to 8 pm
DESCRIPTION:
URL:https://fairwaysandgreens.com/calendar/facility-hours-9-am-to-8-pm-9-2024-11-13/
END:VEVENT
BEGIN:VEVENT
DTSTART;VALUE=DATE:20241114
DTEND;VALUE=DATE:20241115
DTSTAMP:20260422T180053
CREATED:20241014T201910Z
LAST-MODIFIED:20241014T201910Z
UID:5491-1731542400-1731628799@fairwaysandgreens.com
SUMMARY:Facility Hours: 9 am to 8 pm
DESCRIPTION:
URL:https://fairwaysandgreens.com/calendar/facility-hours-9-am-to-8-pm-10-2024-11-14/
END:VEVENT
BEGIN:VEVENT
DTSTART;VALUE=DATE:20241115
DTEND;VALUE=DATE:20241116
DTSTAMP:20260422T180053
CREATED:20241014T202122Z
LAST-MODIFIED:20241014T202122Z
UID:5515-1731628800-1731715199@fairwaysandgreens.com
SUMMARY:Facility Hours: 9 am to 7 pm
DESCRIPTION:
URL:https://fairwaysandgreens.com/calendar/facility-hours-9-am-to-7-pm-3-2024-11-15/
END:VEVENT
BEGIN:VEVENT
DTSTART;VALUE=DATE:20241116
DTEND;VALUE=DATE:20241117
DTSTAMP:20260422T180053
CREATED:20241014T202219Z
LAST-MODIFIED:20241014T202219Z
UID:5539-1731715200-1731801599@fairwaysandgreens.com
SUMMARY:Facility Hours: 9 am to 6 pm
DESCRIPTION:
URL:https://fairwaysandgreens.com/calendar/facility-hours-9-am-to-6-pm-2-2024-11-16/
END:VEVENT
BEGIN:VEVENT
DTSTART;TZID=America/New_York:20241117T100000
DTEND;TZID=America/New_York:20241117T100000
DTSTAMP:20260422T180053
CREATED:20241014T200551Z
LAST-MODIFIED:20241014T201019Z
UID:5328-1731837600-1731837600@fairwaysandgreens.com
SUMMARY:Facility Hours: 10 am to 6 pm
DESCRIPTION:
URL:https://fairwaysandgreens.com/calendar/facility-hours-2024-11-17/
END:VEVENT
BEGIN:VEVENT
DTSTART;VALUE=DATE:20241118
DTEND;VALUE=DATE:20241119
DTSTAMP:20260422T180053
CREATED:20241014T201255Z
LAST-MODIFIED:20241014T201255Z
UID:5414-1731888000-1731974399@fairwaysandgreens.com
SUMMARY:Facility Hours: 9 am to 8 pm
DESCRIPTION:Maintenance Monday: The range is closed until 12 pm.
URL:https://fairwaysandgreens.com/calendar/facility-hours-9-am-to-8-pm-8-2024-11-18/
END:VEVENT
BEGIN:VEVENT
DTSTART;VALUE=DATE:20241119
DTEND;VALUE=DATE:20241120
DTSTAMP:20260422T180053
CREATED:20241014T201542Z
LAST-MODIFIED:20241014T201542Z
UID:5440-1731974400-1732060799@fairwaysandgreens.com
SUMMARY:Facility Hours: 9 am 8 pm
DESCRIPTION:
URL:https://fairwaysandgreens.com/calendar/facility-hours-9-am-8-pm-2024-11-19/
END:VEVENT
BEGIN:VEVENT
DTSTART;VALUE=DATE:20241120
DTEND;VALUE=DATE:20241121
DTSTAMP:20260422T180053
CREATED:20241014T201702Z
LAST-MODIFIED:20241014T201702Z
UID:5464-1732060800-1732147199@fairwaysandgreens.com
SUMMARY:Facility Hours: 9 am to 8 pm
DESCRIPTION:
URL:https://fairwaysandgreens.com/calendar/facility-hours-9-am-to-8-pm-9-2024-11-20/
END:VEVENT
BEGIN:VEVENT
DTSTART;VALUE=DATE:20241121
DTEND;VALUE=DATE:20241122
DTSTAMP:20260422T180053
CREATED:20241014T201910Z
LAST-MODIFIED:20241014T201910Z
UID:5492-1732147200-1732233599@fairwaysandgreens.com
SUMMARY:Facility Hours: 9 am to 8 pm
DESCRIPTION:
URL:https://fairwaysandgreens.com/calendar/facility-hours-9-am-to-8-pm-10-2024-11-21/
END:VEVENT
BEGIN:VEVENT
DTSTART;VALUE=DATE:20241122
DTEND;VALUE=DATE:20241123
DTSTAMP:20260422T180053
CREATED:20241014T202122Z
LAST-MODIFIED:20241014T202122Z
UID:5516-1732233600-1732319999@fairwaysandgreens.com
SUMMARY:Facility Hours: 9 am to 7 pm
DESCRIPTION:
URL:https://fairwaysandgreens.com/calendar/facility-hours-9-am-to-7-pm-3-2024-11-22/
END:VEVENT
BEGIN:VEVENT
DTSTART;VALUE=DATE:20241123
DTEND;VALUE=DATE:20241124
DTSTAMP:20260422T180053
CREATED:20241014T202219Z
LAST-MODIFIED:20241014T202219Z
UID:5540-1732320000-1732406399@fairwaysandgreens.com
SUMMARY:Facility Hours: 9 am to 6 pm
DESCRIPTION:
URL:https://fairwaysandgreens.com/calendar/facility-hours-9-am-to-6-pm-2-2024-11-23/
END:VEVENT
BEGIN:VEVENT
DTSTART;TZID=America/New_York:20241124T100000
DTEND;TZID=America/New_York:20241124T100000
DTSTAMP:20260422T180053
CREATED:20241014T200551Z
LAST-MODIFIED:20241014T201019Z
UID:5329-1732442400-1732442400@fairwaysandgreens.com
SUMMARY:Facility Hours: 10 am to 6 pm
DESCRIPTION:
URL:https://fairwaysandgreens.com/calendar/facility-hours-2024-11-24/
END:VEVENT
BEGIN:VEVENT
DTSTART;VALUE=DATE:20241125
DTEND;VALUE=DATE:20241126
DTSTAMP:20260422T180053
CREATED:20241014T201255Z
LAST-MODIFIED:20241014T201255Z
UID:5415-1732492800-1732579199@fairwaysandgreens.com
SUMMARY:Facility Hours: 9 am to 8 pm
DESCRIPTION:Maintenance Monday: The range is closed until 12 pm.
URL:https://fairwaysandgreens.com/calendar/facility-hours-9-am-to-8-pm-8-2024-11-25/
END:VEVENT
BEGIN:VEVENT
DTSTART;VALUE=DATE:20241126
DTEND;VALUE=DATE:20241127
DTSTAMP:20260422T180053
CREATED:20241014T201542Z
LAST-MODIFIED:20241014T201542Z
UID:5441-1732579200-1732665599@fairwaysandgreens.com
SUMMARY:Facility Hours: 9 am 8 pm
DESCRIPTION:
URL:https://fairwaysandgreens.com/calendar/facility-hours-9-am-8-pm-2024-11-26/
END:VEVENT
BEGIN:VEVENT
DTSTART;VALUE=DATE:20241129
DTEND;VALUE=DATE:20241130
DTSTAMP:20260422T180053
CREATED:20241014T202122Z
LAST-MODIFIED:20241014T202122Z
UID:5517-1732838400-1732924799@fairwaysandgreens.com
SUMMARY:Facility Hours: 9 am to 7 pm
DESCRIPTION:
URL:https://fairwaysandgreens.com/calendar/facility-hours-9-am-to-7-pm-3-2024-11-29/
END:VEVENT
BEGIN:VEVENT
DTSTART;VALUE=DATE:20241130
DTEND;VALUE=DATE:20241201
DTSTAMP:20260422T180053
CREATED:20241014T202219Z
LAST-MODIFIED:20241014T202219Z
UID:5541-1732924800-1733011199@fairwaysandgreens.com
SUMMARY:Facility Hours: 9 am to 6 pm
DESCRIPTION:
URL:https://fairwaysandgreens.com/calendar/facility-hours-9-am-to-6-pm-2-2024-11-30/
END:VEVENT
BEGIN:VEVENT
DTSTART;TZID=America/New_York:20241201T100000
DTEND;TZID=America/New_York:20241201T100000
DTSTAMP:20260422T180053
CREATED:20241014T200551Z
LAST-MODIFIED:20241014T201020Z
UID:5330-1733047200-1733047200@fairwaysandgreens.com
SUMMARY:Facility Hours: 10 am to 6 pm
DESCRIPTION:
URL:https://fairwaysandgreens.com/calendar/facility-hours-2024-12-01/
END:VEVENT
BEGIN:VEVENT
DTSTART;VALUE=DATE:20241202
DTEND;VALUE=DATE:20241203
DTSTAMP:20260422T180053
CREATED:20241014T201255Z
LAST-MODIFIED:20241014T201255Z
UID:5416-1733097600-1733183999@fairwaysandgreens.com
SUMMARY:Facility Hours: 9 am to 8 pm
DESCRIPTION:Maintenance Monday: The range is closed until 12 pm.
URL:https://fairwaysandgreens.com/calendar/facility-hours-9-am-to-8-pm-8-2024-12-02/
END:VEVENT
END:VCALENDAR